BEGIN:VCALENDAR
VERSION:2.0
PRODID:-//Tredet - ECPv6.9.0//NONSGML v1.0//EN
CALSCALE:GREGORIAN
METHOD:PUBLISH
X-WR-CALNAME:Tredet
X-ORIGINAL-URL:https://tredet.no
X-WR-CALDESC:Arrangementer for Tredet
REFRESH-INTERVAL;VALUE=DURATION:PT1H
X-Robots-Tag:noindex
X-PUBLISHED-TTL:PT1H
BEGIN:VTIMEZONE
TZID:Europe/Oslo
BEGIN:DAYLIGHT
TZOFFSETFROM:+0100
TZOFFSETTO:+0200
TZNAME:CEST
DTSTART:20240331T010000
END:DAYLIGHT
BEGIN:STANDARD
TZOFFSETFROM:+0200
TZOFFSETTO:+0100
TZNAME:CET
DTSTART:20241027T010000
END:STANDARD
END:VTIMEZONE
BEGIN:VEVENT
DTSTART;TZID=Europe/Oslo:20240824T230000
DTEND;TZID=Europe/Oslo:20240825T020000
DTSTAMP:20260422T205132
CREATED:20240809T171303Z
LAST-MODIFIED:20240809T171303Z
UID:4302-1724540400-1724551200@tredet.no
SUMMARY:House Proud med DJ TWAT
DESCRIPTION:House Proud er tilbake!\nEtter en etterlengtet ferie og skolestart i full sving\, så er House Proud tilbake og klare for å levere deilig\, pulserende house musikk!Lørdag 24.august står selveste DJ TWAT bak spakene og loser dere gjennom en jungel av levende house musikk i forskjellige sjangrer.\nBilletter:100\,-50\,- for studenter (Husk å ta med gyldig studentbevis)\n\nENGLISH\nHouse Proud is back!\nAfter a well deserved summer vacation and the semester up and running\, House Proud is back and ready to deliver groovy\, pulsating house music!Saturday the 24th of August\, the one and only DJ TWAT is going to guide you through a jungle of vibrant house music in different genres.\nTickets:100\,-50\,- for students (Remember to bring valid student ID)
URL:https://tredet.no/event/house-proud-med-dj-twat/
LOCATION:Tredet\, Halkjelsgate 8\, Volda\, Møre og Romsdal\, 6100\, Norge
ATTACH;FMTTYPE=image/png:https://tredet.no/wp-content/uploads/2024/08/Copy-of-Facebook-events-2024-7.png
ORGANIZER;CN="Tredet":MAILTO:post@tredet.no
END:VEVENT
BEGIN:VEVENT
DTSTART;TZID=Europe/Oslo:20240829T200000
DTEND;TZID=Europe/Oslo:20240829T230000
DTSTAMP:20260422T205132
CREATED:20240822T112201Z
LAST-MODIFIED:20240822T112201Z
UID:4340-1724961600-1724972400@tredet.no
SUMMARY:FunkUps
DESCRIPTION:Hausten er her og FunkUps er klar for ny sesong! Bandet lovar smittande speleglede og gladeleg gjenhøyr med funk- og jazzrock-hits frå 70-talet. Her får du sikkert høyre både låtar av Hancock\, Corea\, Ritenour med fleire\, og kan hende blir det litt Stevie Wonder også? Den som møter opp får sjå!Stein Lied; trommer/vokalAndré Folkestad: tromboneSvein Olav Kruse: gitarUlf Kristiansen: saksofonSvein Hunnes: bassIvar Kvangardsnes: trompetØyvind Lied: tangentar/vokal
URL:https://tredet.no/event/funkups-3/
LOCATION:Tredet\, Halkjelsgate 8\, Volda\, Møre og Romsdal\, 6100\, Norge
ATTACH;FMTTYPE=image/png:https://tredet.no/wp-content/uploads/2024/08/Copy-of-Facebook-events-2024-12.png
ORGANIZER;CN="Tredet":MAILTO:post@tredet.no
END:VEVENT
BEGIN:VEVENT
DTSTART;TZID=Europe/Oslo:20240830T200000
DTEND;TZID=Europe/Oslo:20240830T220000
DTSTAMP:20260422T205132
CREATED:20240821T110907Z
LAST-MODIFIED:20240821T113021Z
UID:4312-1725048000-1725055200@tredet.no
SUMMARY:Karl Bjorå
DESCRIPTION:Karl Bjorå har ein dei siste 6-7 åra kunne oppleve i band som Emmeluth’s Amoeba\, Yes Deer\, Megalodon Collective og fleire\, gjennom utgjevingar med gruppene\, og konsertar verda rundt. I sitt eige band vert berre Bjorå sine komposisjonar framførte\, der jakta på ein kvalitetsrik og unik lyd\, både som ensemble og åleine\, er i fokus. \nBandet sitt særpreg ligg i både instrumenteringa og musikarane sine sterke eigne uttrykk\, og balanserer komponerte element og fritt spelerom hårfint – utan at det oppstår kamp om plassen. Som Arild R. Andersen skreiv i Aftenposten: “Bjorå dekonstruerer biletet av gitaristen som sjølvnytande midtpunkt og akrobat. Han utfordrar lyttarane sine forventningar og skaper heilskap\, heilt utan å vimse”. \nBandet: \n\nKarl Bjorå – gitar & komposisjon\nSelma French Bolstad – fele & vokal\nTuva Syvertsen – feler & vokal\nVegard Lien Bjerkan – piano & synther\nBárður Poulsen – kontrabass\nAndreas Winther – trommer\nHåvard Aufles – synther
URL:https://tredet.no/event/karl-bjora/
LOCATION:Tredet\, Halkjelsgate 8\, Volda\, Møre og Romsdal\, 6100\, Norge
ATTACH;FMTTYPE=image/png:https://tredet.no/wp-content/uploads/2024/08/Copy-of-Facebook-events-2024-9.png
ORGANIZER;CN="Jazzklubben Volda %C3%98rsta":MAILTO:post@jazzklubben.no
END:VEVENT
END:VCALENDAR