BEGIN:VCALENDAR
VERSION:2.0
PRODID:-//Tredet - ECPv6.9.0//NONSGML v1.0//EN
CALSCALE:GREGORIAN
METHOD:PUBLISH
X-WR-CALNAME:Tredet
X-ORIGINAL-URL:https://tredet.no
X-WR-CALDESC:Arrangementer for Tredet
REFRESH-INTERVAL;VALUE=DURATION:PT1H
X-Robots-Tag:noindex
X-PUBLISHED-TTL:PT1H
BEGIN:VTIMEZONE
TZID:Europe/Oslo
BEGIN:DAYLIGHT
TZOFFSETFROM:+0100
TZOFFSETTO:+0200
TZNAME:CEST
DTSTART:20230326T010000
END:DAYLIGHT
BEGIN:STANDARD
TZOFFSETFROM:+0200
TZOFFSETTO:+0100
TZNAME:CET
DTSTART:20231029T010000
END:STANDARD
END:VTIMEZONE
BEGIN:VEVENT
DTSTART;TZID=Europe/Oslo:20230110T180000
DTEND;TZID=Europe/Oslo:20230110T203000
DTSTAMP:20260424T130243
CREATED:20230106T101327Z
LAST-MODIFIED:20230106T101327Z
UID:2897-1673373600-1673382600@tredet.no
SUMMARY:STRIKKEKAFE
DESCRIPTION:Godt nytt år alle saman. Vi er litt seint ute\, men det blir altså Strikkekafe på Tredet tirsdag 10 januar.\nHadde vore kjekt om du kan ta med noko du har strikka\, eller vil vise fram\, så kan vi lage ei utstilling.\nVi gler oss til å møte «gamle» og nye til sosialt samvær og lar pinnane gå. Eller har du berre lyst til å kose deg ilag med oss\, så er du sjølvsagt hjarteleg velkommen\nMerete og Astri
URL:https://tredet.no/event/strikkekafe-2/
LOCATION:Tredet\, Halkjelsgate 8\, Volda\, Møre og Romsdal\, 6100\, Norge
ORGANIZER;CN="Tredet":MAILTO:post@tredet.no
END:VEVENT
BEGIN:VEVENT
DTSTART;TZID=Europe/Oslo:20230112T190000
DTEND;TZID=Europe/Oslo:20230112T210000
DTSTAMP:20260424T130243
CREATED:20230106T114424Z
LAST-MODIFIED:20230106T143519Z
UID:2899-1673550000-1673557200@tredet.no
SUMMARY:PRESSEPUB
DESCRIPTION:Innleder under pressepubben er Bastian Lunde Hvitmyr. Han vil snakke om korleis ein moderne journalist arbeider. \nHan skriv dette om seg sjølv; \n«Begynte i VG på slutten av mitt andre studieår i Volda. Jobbet lenge i VGs Snapchat-avdelingen\, har siden arbeidet med VGs prosjekter for å nå unge lesere\, seere og lyttere. \nI redaksjonene jeg hører til jobber vi med veldig mye forskjellig. Vi skriver om alt fra kjendiser\, klima og krig. Vi satser veldig på saker som handler om studenter og russ. I år har vi også begynt å satse hardt på TikTok\, som jeg også jobber med. Vi har spisskompitanse på å lage saker til VGs lesere under 25 år.\n \n\n\n\n\n\nSkjønner at dere har endret litt på hvordan dere studerer\, da jeg gikk i Volda gikk på jeg på avis og ble i teorien skrivende journalist. I VG har jeg jobbet mye med video. Redaksjonen min er det nærmeste VG kommer en avdeling hvor alle kan skrive og filme\, altså multimediale. \nPressepuben er open for alle og vert arrangert frå kl.\n19.00 – 21.00. Tredet er ope til kl. 23.00 denne dagen.\nGratis inngong! \n\nVelkomen skal de vere! 🙂
URL:https://tredet.no/event/pressepub/
LOCATION:Tredet\, Halkjelsgate 8\, Volda\, Møre og Romsdal\, 6100\, Norge
ORGANIZER;CN="Tredet":MAILTO:post@tredet.no
END:VEVENT
BEGIN:VEVENT
DTSTART;TZID=Europe/Oslo:20230120T220000
DTEND;TZID=Europe/Oslo:20230121T020000
DTSTAMP:20260424T130243
CREATED:20230118T102539Z
LAST-MODIFIED:20230118T102613Z
UID:2975-1674252000-1674266400@tredet.no
SUMMARY:DJ Rune
DESCRIPTION:Endeleg er Dj Rune Rotevatn attende på Tredet\, att! Han diskar opp med gode musikk! \nDJ Rune er kjende som ein meget dyktige «allround» DJ\, som spelar dei fleste sjangera. \nHer vert det som tidlegare\, follt hus og topp stemning! \nMonge kjem på Tredet denne kvelden og natta! \nMe håpe du me tek ein tur! \nAldersgrense 20 år. \nBillettar til kr. 100\,- kjøpast i døra. \nVelkomen skal de vere!
URL:https://tredet.no/event/dj-rune-2/
LOCATION:Tredet\, Halkjelsgate 8\, Volda\, Møre og Romsdal\, 6100\, Norge
ORGANIZER;CN="Tredet":MAILTO:post@tredet.no
END:VEVENT
BEGIN:VEVENT
DTSTART;TZID=Europe/Oslo:20230121T110000
DTEND;TZID=Europe/Oslo:20230121T130000
DTSTAMP:20260424T130243
CREATED:20230118T124346Z
LAST-MODIFIED:20230524T065319Z
UID:2979-1674298800-1674306000@tredet.no
SUMMARY:All you can eat! - Vafler
DESCRIPTION:Vaffelbuffé!\nKvar laurdag kan du ete så mange vafler du klarer! Vaksne 100kr og barn opptil 14 år et for 50kr. Du kan velge mellom flere pålegg som brunost\, rømme\, jordbærsyltetøy\, smør og sukker!  Vi også tilbyr melkefrie vafler.\n\n\n\nWafflebuffet!\nEvery Saturday from 11-01pm you can get as many waffles as you can eat! Adults 100\,-\, kids (0-14) 50\,- You can choose between several toppings like brown cheese\, sour cream\, strawberry jam\, butter and sugar!  We also offer milkfree waffles.
URL:https://tredet.no/event/2979/
LOCATION:Tredet\, Halkjelsgate 8\, Volda\, Møre og Romsdal\, 6100\, Norge
ORGANIZER;CN="Tredet":MAILTO:post@tredet.no
END:VEVENT
BEGIN:VEVENT
DTSTART;TZID=Europe/Oslo:20230127T210000
DTEND;TZID=Europe/Oslo:20230128T010000
DTSTAMP:20260424T130243
CREATED:20230118T125716Z
LAST-MODIFIED:20230118T125716Z
UID:3013-1674853200-1674867600@tredet.no
SUMMARY:MINNESOTA: Trond Kallevåg\, Mats Eilertsen & Gard Nilsen
DESCRIPTION:Filmatisk musikk med kraftfull melodisk teft\, inspirert av gamle norsk-amerikanske Murder og Cowboyballader.\nTrond presenterer her ny musikk med tittelen «Minnesota» og har fått med seg to av landets flittigste musikere.\nMed sine to Hubro-utgivelser\, «Bedehus & Hawaii» (2019) og «Fengselsfugl» (2021)\, har haugesunderen\, gitaristen og komponisten Trond Kallevåg etablert seg som en særs original og viktig musikalsk stemme i sin generasjon. Anmeldere i inn og utland har hyllet musikken hans for sitt ærlige og lyriske instrumentale musikk og flere har trukket paraleller til musikken til Ry Cooder. På originalt vis blander han alt fra vestnorske fengsels- og skillingsviser med melodisk nøysomhet og amerikansk folk. På platene medvirket blant annet Geir Sundstøl som perfekt matchet Trond sitt gitarspill samt affeksjon for atmosfærisk filmmusikk\, forsiktig bedehussakralitet og polynesisk exotica.\n\nHans nye prosjekt «Minnesota» referer til delstaten i USA hvor svært mange norske utvandrere bosatte seg på 1800-tallet. USA hadde stor tiltrekningskraft på de som ikke passet inn og for Trond representerer navnet både det lovløse og drømmen om trygghet og frihet. Musikken spinner videre på Trond sine to forrige kritikerroste plater «Bedehus & Hawaii» og «Fengselsfugl» som var sterkt inspirert av gamle skillingsviser som var populære i miljøer som stod ved siden av det etablerte. Denne gang har Trond funnet inspirasjon i delstaten Minnesota og blant annet gamle amerikanske Murder og Cowboyballads som var populære på 1800-tallet.\n\nKallevåg har samlet en trio som virkelig borger for kvalitet! Gard Nilsen og Mats Eilertsen. Trommeslageren Gard Nilsen har vunnet flere Spellemannpriser og spilt med storheter som Bill Frisell og Pat Metheny\, og har også vært Susanne Sundførs foretrukne trommeslager i en årrekke. Mats Eilertsen på bass har også vunnet flere Spellemannpriser og har medvirket på flere titalls plateutgivelser med musikere som The Source\, Arve Henriksen\, Solveig Slettahjell og Nils Økland.\n\nBillettar kan kjøpes på tikkio: tikkio.com/tickets/34753-minnesota-trond-kallevag-mats-eilertsen-gard-nilsen
URL:https://tredet.no/event/minnesota-trond-kallevag-mats-eilertsen-gard-nilsen/
LOCATION:Tredet\, Halkjelsgate 8\, Volda\, Møre og Romsdal\, 6100\, Norge
ORGANIZER;CN="Tredet":MAILTO:post@tredet.no
END:VEVENT
BEGIN:VEVENT
DTSTART;TZID=Europe/Oslo:20230128T160000
DTEND;TZID=Europe/Oslo:20230128T180000
DTSTAMP:20260424T130243
CREATED:20230126T132919Z
LAST-MODIFIED:20230126T132937Z
UID:3037-1674921600-1674928800@tredet.no
SUMMARY:Støttekonsert på Tredet
DESCRIPTION:Konserten er støtte til bevaring av Mork rehabiliteringssenter og sommaropen fødeavdeling på Volda sjukehus. \nDette kan du forvente: \nØyvind Lied: tangentar og song\nStig Ulv ( Stig Ulvestad): solo instrumentalist\, gitar\nØyvind Robak: solo instrumentalist\, fele og bandoneon\nKjell Arne Dimmen: gitar og song\nKyrre Grimstad og Kjell Rune Klubbens: gitar og song\nÅge Nybø\, Linda Isabella og Geir Boska: gitar og song\nAugust Øyehaug Sellevoll: rap \nInngangen er gratis!
URL:https://tredet.no/event/stottekonsert-pa-tredet/
LOCATION:Tredet\, Halkjelsgate 8\, Volda\, Møre og Romsdal\, 6100\, Norge
ORGANIZER;CN="Tredet":MAILTO:post@tredet.no
END:VEVENT
END:VCALENDAR