BEGIN:VCALENDAR
VERSION:2.0
PRODID:-//Tredet - ECPv6.9.0//NONSGML v1.0//EN
CALSCALE:GREGORIAN
METHOD:PUBLISH
X-ORIGINAL-URL:https://tredet.no
X-WR-CALDESC:Arrangementer for Tredet
REFRESH-INTERVAL;VALUE=DURATION:PT1H
X-Robots-Tag:noindex
X-PUBLISHED-TTL:PT1H
BEGIN:VTIMEZONE
TZID:Europe/Oslo
BEGIN:DAYLIGHT
TZOFFSETFROM:+0100
TZOFFSETTO:+0200
TZNAME:CEST
DTSTART:20220327T010000
END:DAYLIGHT
BEGIN:STANDARD
TZOFFSETFROM:+0200
TZOFFSETTO:+0100
TZNAME:CET
DTSTART:20221030T010000
END:STANDARD
END:VTIMEZONE
BEGIN:VEVENT
DTSTART;TZID=Europe/Oslo:20221102T190000
DTEND;TZID=Europe/Oslo:20221102T220000
DTSTAMP:20260424T161903
CREATED:20221030T191820Z
LAST-MODIFIED:20221030T194748Z
UID:2742-1667415600-1667426400@tredet.no
SUMMARY:VOLDAMEISTERSKAP I FILMKVISS
DESCRIPTION:Spørsmåla går i hovudsak på norsk- og engelskspråklege filmar. \nPremiar er kinobillettar og gåvekort. \nPåmelding kr. 50\,- pr. pers. Vipps til nr. 73 05 22. Merk betalinga kva påmeldinga gjeld! \nVelkomne skal de vere! 🙂
URL:https://tredet.no/event/voldameisterskap-i-filmkviss/
LOCATION:Tredet\, Halkjelsgate 8\, Volda\, Møre og Romsdal\, 6100\, Norge
ORGANIZER;CN="Tredet":MAILTO:post@tredet.no
END:VEVENT
BEGIN:VEVENT
DTSTART;TZID=Europe/Oslo:20221103T190000
DTEND;TZID=Europe/Oslo:20221103T220000
DTSTAMP:20260424T161903
CREATED:20221030T192318Z
LAST-MODIFIED:20221030T194834Z
UID:2744-1667502000-1667512800@tredet.no
SUMMARY:VOLDAMEISTERSKAP I MUSIKKVISS
DESCRIPTION:Mest spørsmål om pop og rock\, men vi skal innom fleire sjangrar. \nPremiar konsertbillettar og gåvekort. \nPåmelding kr. 50\,- pr. pers. Vipps til nr. 73 05 22. Merk betalinga kva påmeldinga gjeld! \nVelkomne skal de vere! 🙂
URL:https://tredet.no/event/voldameisterskap-i-musikkviss/
LOCATION:Tredet\, Halkjelsgate 8\, Volda\, Møre og Romsdal\, 6100\, Norge
ORGANIZER;CN="Tredet":MAILTO:post@tredet.no
END:VEVENT
BEGIN:VEVENT
DTSTART;TZID=Europe/Oslo:20221104T190000
DTEND;TZID=Europe/Oslo:20221104T220000
DTSTAMP:20260424T161903
CREATED:20221030T193032Z
LAST-MODIFIED:20221104T123409Z
UID:2746-1667588400-1667599200@tredet.no
SUMMARY:VOLDAMEISTERSKAP  FOTBALLKVISS FRÅ KL. 19.00-22.00
DESCRIPTION:Minnar om Voldameisterskapet i fotballkviss på Tredet kl. 19.00 i kveld\, fredag 4. november 2022!\nDet er flest spørsmål frå norsk og engelsk fotball\, EM/VM og europacup\, men enkelte spørsmål frå andre store fotballnasjonar kan og dukke opp.\nDet er maks 5 deltakarar per lag og er alle på laget 30 år eller yngre er du med i eiga ungdomsklasse. I tillegg til gåvekort frå Tredet kan du vinne signerte drakter frå AaFK\, Brann og RB Leipzig som Lars Arne\, Sivert og Ørjan har våre gode og hjelpt oss med!\nPåmelding kr. 50\,- pr. person. Vipps til nr. 73 05 22. Merk betalinga kva påmeldinga gjeld! \nFotballkvissen varer frå kl. 19.00 – 22.00. Deretter er det ope hus og gratis inngong! \nVelkomne skal de vere! 🙂
URL:https://tredet.no/event/voldameisterskap-fotballkviss/
LOCATION:Tredet\, Halkjelsgate 8\, Volda\, Møre og Romsdal\, 6100\, Norge
ORGANIZER;CN="Tredet":MAILTO:post@tredet.no
END:VEVENT
BEGIN:VEVENT
DTSTART;TZID=Europe/Oslo:20221105T130000
DTEND;TZID=Europe/Oslo:20221105T160000
DTSTAMP:20260424T161903
CREATED:20221030T193523Z
LAST-MODIFIED:20221030T195102Z
UID:2748-1667653200-1667664000@tredet.no
SUMMARY:VOLDAMEISTERSKAP I TVUNGEN YATZY
DESCRIPTION:Yatzy er ein klassikar som passer for born i alle aldrar. \nOpe for alle. \nPåmelding på kr. 50\,-. Vipps til nr. 73 05 22. Merk betalinga kva påmeldinga gjeld! Gratis for alle under 12 år. \nVelkomne skal de vere! 🙂 \n 
URL:https://tredet.no/event/voldameisterskap-i-tvungen-yatzy/
LOCATION:Tredet\, Halkjelsgate 8\, Volda\, Møre og Romsdal\, 6100\, Norge
ORGANIZER;CN="Tredet":MAILTO:post@tredet.no
END:VEVENT
BEGIN:VEVENT
DTSTART;TZID=Europe/Oslo:20221105T190000
DTEND;TZID=Europe/Oslo:20221105T220000
DTSTAMP:20260424T161903
CREATED:20221030T194140Z
LAST-MODIFIED:20221101T214527Z
UID:2750-1667674800-1667685600@tredet.no
SUMMARY:VOLDAMEISTERSKAP I ALLMENNKVISS FRÅ KL. 19.00 - 22.00
DESCRIPTION:Kvissen inneheld mange av dei same elementa som under Tysdagskvissane. Men her har ein altså muligheit til å verte Voldameister for 2022! \nPåmelding kr. 50\, pr. person. Vipps til nr. 73 05 22. Merk betalinga kva påmeldinga gjeld! \nAllmennkvissen varer frå kl. 19.00 – 22.00. Deretter er det ope hus og gratis inngong! \nVelkomne skal de vere! 🙂
URL:https://tredet.no/event/voldameisterskap-i-allmennkviss/
LOCATION:Tredet\, Halkjelsgate 8\, Volda\, Møre og Romsdal\, 6100\, Norge
ORGANIZER;CN="Tredet":MAILTO:post@tredet.no
END:VEVENT
BEGIN:VEVENT
DTSTART;TZID=Europe/Oslo:20221112T140000
DTEND;TZID=Europe/Oslo:20221112T160000
DTSTAMP:20260424T161903
CREATED:20220815T232806Z
LAST-MODIFIED:20220831T193646Z
UID:2475-1668261600-1668268800@tredet.no
SUMMARY:JAZZKAFE MED HOLY GHOST BAND (HGB)
DESCRIPTION:Jazzkafe på Tredet 12. november kl. 14.00 – 16.00.\nMeir info kjem!\nKr. 50\,- (medlemar i Jazzklubben)\, kr. 100\,- (ikkje medlem)\nBillettar vert selde i døra.\nVelkomne skal de vere! \n  \n  \n 
URL:https://tredet.no/event/jazzkafe-7/
LOCATION:Tredet\, Halkjelsgate 8\, Volda\, Møre og Romsdal\, 6100\, Norge
ORGANIZER;CN="Tredet":MAILTO:post@tredet.no
END:VEVENT
BEGIN:VEVENT
DTSTART;TZID=Europe/Oslo:20221118T200000
DTEND;TZID=Europe/Oslo:20221118T223000
DTSTAMP:20260424T161903
CREATED:20220831T194651Z
LAST-MODIFIED:20221111T103532Z
UID:2597-1668801600-1668810600@tredet.no
SUMMARY:JAZZKONSERT MED WAKO
DESCRIPTION:Med fire studioplater og eit hundretal liveframferder i ryggen\, speler Wako med ein autoritet og personlegdom som plasserer dei i fortroppen av nordisk jazz. Wako er ein av dei mest dynamiske og innovative gruppene på dagens jazzscene\, og har bygd ein solid fanskare og hausta heider frå kritikarar nær og fjern. Kort fortalt er Wako ein av dei mest imponerande unge livegruppene i dag. \nIndividuelt er musikarane også å sjå i prosjekt som spellemannsvinner Hegge\, spellemannsnominerte Megalodon Collective\, Espen Berg trio\, Kjetil Mulelid Trio og Trondheim Jazzorkester.Jazzkonsert med Wako. \nPris kr. 200\,- (medlemar av Jazzklubben)\, kr. 300\,- (ikkje medlem). \nBillettar vert selde på tikkio.no. Overskytande billettar vert selde i døra. \nAldersgrense 20 år. \nVelkomne skal de vere! 🙂
URL:https://tredet.no/event/jazzkonsert-med-wako/
LOCATION:Tredet\, Halkjelsgate 8\, Volda\, Møre og Romsdal\, 6100\, Norge
ORGANIZER;CN="Tredet":MAILTO:post@tredet.no
END:VEVENT
BEGIN:VEVENT
DTSTART;TZID=Europe/Oslo:20221130T180000
DTEND;TZID=Europe/Oslo:20221130T193000
DTSTAMP:20260424T161903
CREATED:20221121T212351Z
LAST-MODIFIED:20221121T214715Z
UID:2830-1669831200-1669836600@tredet.no
SUMMARY:BOKSLEPP "KVINNER FRÅ ANDRE  LAND SOM VALDE VOLDA OG ØRSTA"
DESCRIPTION:30 avisartiklar i Møre og Møre Nytt har blitt bok: «Kvinner frå andre land som valde Volda og Ørsta.» \nKvinnene som har vorte portretterte i artiklane i Møre og Møre Nytt det siste året\, vil vere til stades på boksleppet på Tredet kl.18.00 onsdag 30. november. Det vert kåseri om kultursjokket\, song og internasjonal dans. \n«Eg håper at denne boka kan føre til kontakt»\, seier Reidun Aambø. «Voldingar og ørstingar kan verte kjende med desse kvinnene og kulturen deira\, så kanskje kan det føre til ein liten samtale på butikken eller i nabolaget? Dei aller fleste innvandrarar trivst i bygdene våre\, men å få kontakt med nordmenn er vanskeleg\, bortsett frå på fjellet. Der helsar alle på kvarandre. Vi veit sjølv kor kjekt det er når nokon snakkar med oss når vi er turistar i andre land. Desse kvinnene er ikkje turistar\, Volda og Ørsta er heimstaden deira\, og dei bør kjenne seg velkomne og heime.» \nDet er kjekt å få presentere ei bok som både er kortreist og «langreist». Alt av setting\, trykking og binding er gjort hos Aarflot Media lokalt\, og innhaldet er i høgste grad internasjonalt. Bøker vert selde til reduserte prisar. \nGratis inngong! \nAlle er velkomne!
URL:https://tredet.no/event/bokslepp-kvinner-fra-andre-land-som-valde-volda-og-orsta/
LOCATION:Tredet\, Halkjelsgate 8\, Volda\, Møre og Romsdal\, 6100\, Norge
ORGANIZER;CN="Tredet":MAILTO:post@tredet.no
END:VEVENT
END:VCALENDAR