BEGIN:VCALENDAR
VERSION:2.0
PRODID:-//Tredet - ECPv6.9.0//NONSGML v1.0//EN
CALSCALE:GREGORIAN
METHOD:PUBLISH
X-ORIGINAL-URL:https://tredet.no
X-WR-CALDESC:Arrangementer for Tredet
REFRESH-INTERVAL;VALUE=DURATION:PT1H
X-Robots-Tag:noindex
X-PUBLISHED-TTL:PT1H
BEGIN:VTIMEZONE
TZID:Europe/Oslo
BEGIN:DAYLIGHT
TZOFFSETFROM:+0100
TZOFFSETTO:+0200
TZNAME:CEST
DTSTART:20220327T010000
END:DAYLIGHT
BEGIN:STANDARD
TZOFFSETFROM:+0200
TZOFFSETTO:+0100
TZNAME:CET
DTSTART:20221030T010000
END:STANDARD
END:VTIMEZONE
BEGIN:VEVENT
DTSTART;TZID=Europe/Oslo:20220902T200000
DTEND;TZID=Europe/Oslo:20220902T233000
DTSTAMP:20260424T193344
CREATED:20220815T204120Z
LAST-MODIFIED:20220831T075444Z
UID:2452-1662148800-1662161400@tredet.no
SUMMARY:JAZZKVELD STANDARAR MED LADE\, DALHAUG VIK & INDERBERG
DESCRIPTION:Denne kvelden får vi besøk av Aage Lade (piano) på Tredet med klassiske jazzstandardar frå 50-60 -talet på repertoaret\, som her blir framført med Martin Vik på bass og Børre Dalhaug på trommer. Sara Lade (vokal) presenterer låtar i same kontekst med musikkreferansar som M. Zetterlund\, B. Holiday\, Ella Fitzgerald m.fl. I tillegg nemnde aktørar medverkar John Pål Inderberg (sopran – og barytonsax) som gjestesolist. \nBillettpris kr. 200\,- (medlemar i Jazzklubben)\, kr. 250\,- (ikkje medlemar i jazzklubben). \nBillettar finn de på tikkio.no. Overskytande billettar vert selde i døra. \nVelkomne! \n 
URL:https://tredet.no/event/jazzkveld/
LOCATION:Tredet\, Halkjelsgate 8\, Volda\, Møre og Romsdal\, 6100\, Norge
ATTACH;FMTTYPE=image/jpeg:https://tredet.no/wp-content/uploads/2022/08/Standarar.jpg
ORGANIZER;CN="Tredet":MAILTO:post@tredet.no
END:VEVENT
BEGIN:VEVENT
DTSTART;TZID=Europe/Oslo:20220907T120000
DTEND;TZID=Europe/Oslo:20220907T140000
DTSTAMP:20260424T193344
CREATED:20220815T204910Z
LAST-MODIFIED:20220826T083548Z
UID:2454-1662552000-1662559200@tredet.no
SUMMARY:SUNNMØRE KAMMERMUSIKKFESTIVAL KLASSISK KONSERT
DESCRIPTION:Sunnmøre Kammermusikkfestival held klassisk kafekonsert frå kl. 12.00 – 14.00. \nHer presenterer festivalmusikarane utvalgde musikkstykker. \nGratis inngong. \nVelkomne skal de vere!
URL:https://tredet.no/event/klassisk-konsert/
LOCATION:Tredet\, Halkjelsgate 8\, Volda\, Møre og Romsdal\, 6100\, Norge
ATTACH;FMTTYPE=image/jpeg:https://tredet.no/wp-content/uploads/2022/08/Kammer.jpg
ORGANIZER;CN="Tredet":MAILTO:post@tredet.no
END:VEVENT
BEGIN:VEVENT
DTSTART;TZID=Europe/Oslo:20220910T140000
DTEND;TZID=Europe/Oslo:20220910T160000
DTSTAMP:20260424T193344
CREATED:20220418T112832Z
LAST-MODIFIED:20220824T104644Z
UID:2256-1662818400-1662825600@tredet.no
SUMMARY:MERKESTEINANE!
DESCRIPTION:Yess!! Merkesteinane er attende på Tredet! \nEtter braksuksessen 7. mai\, er Merkesteinane no klare for ein nye musikk-kafe på Tredet 10. september. Dei gled seg til å kome i gong etter ferien. \nFyrste oppdrag i haust\, er kongebesøket i Vanylven 31. august. Ei stor ære å få\nspele til kongeparet\, noko som toppar ei bra merittliste frå Amandafestivalen og\nfilmen «It’s hard to be a rock’n roller»\, Seinkveld\, Sommeråpent\, filmfestivalar\,\nkulturprisar\, Afrikatur\, speleoppdrag m.m. \nVi håper det vert stinn brakke og god stemning. Overskotet vil også denne\ngongen gå til Mathare Center for Hindered People i Nairobi Kenya. \nInngong kr. 100\,-\, som betalast i døra. Inngongspengane går eigenhendig til Merkesteinane! \nVelkomne!
URL:https://tredet.no/event/merkesteinane-pa-jazzkafeen/
LOCATION:Tredet\, Halkjelsgate 8\, Volda\, Møre og Romsdal\, 6100\, Norge
ATTACH;FMTTYPE=image/jpeg:https://tredet.no/wp-content/uploads/2022/04/Merkesteinane.jpg
ORGANIZER;CN="Tredet":MAILTO:post@tredet.no
END:VEVENT
BEGIN:VEVENT
DTSTART;TZID=Europe/Oslo:20220910T200000
DTEND;TZID=Europe/Oslo:20220911T020000
DTSTAMP:20260424T193344
CREATED:20220902T095523Z
LAST-MODIFIED:20220903T121045Z
UID:2607-1662840000-1662861600@tredet.no
SUMMARY:FEIRING AV EITT-ÅRS DAGEN TIL TREDET
DESCRIPTION:Trubadur Øystein Eckhoff har vore ein gjengangar på Tredet i ei årrekkje\, og veit å få Voldapublikummet i godt humør og ut på dansegolvet. \nDet går i kjende låtar\, fjasing og skrøner og rungande allsong til du blir «håse». Trubaduren gler seg til å sjå både kjentfolk og framande\, og å kunne feire «nye-Tredet» sin eittårsdag med brask og bram. \nVel møtt!
URL:https://tredet.no/event/feiring-av-eitt-ars-dagen-til-tredet/
LOCATION:Tredet\, Halkjelsgate 8\, Volda\, Møre og Romsdal\, 6100\, Norge
ATTACH;FMTTYPE=image/jpeg:https://tredet.no/wp-content/uploads/2022/09/Eckhoff-1.jpg
ORGANIZER;CN="Tredet":MAILTO:post@tredet.no
END:VEVENT
BEGIN:VEVENT
DTSTART;TZID=Europe/Oslo:20220917T140000
DTEND;TZID=Europe/Oslo:20220917T160000
DTSTAMP:20260424T193344
CREATED:20220913T093900Z
LAST-MODIFIED:20220913T093900Z
UID:2644-1663423200-1663430400@tredet.no
SUMMARY:JAZZKAFE MED BLUE HORN JAZZBAND
DESCRIPTION:Hot Jazz på Tredet.\nBlue Horn Jazzband har halde på sidan 1997 og kjem frå Sykkylven\, og tre av den opprinnelege gruppa er framleis med. Men vi har og med musikarar frå Ålesund\, Volda og tidvis frå Langevåg.\nBandet har i utgangspunktet ei trad-jazzbesetning med blåserekke\, og kompgruppe med kontrabass\, banjo og trommer. Frå 2012 har vi og hatt fast sangerinne\, og vi spelar med og uten pianist.\nTradjazz\, Hot Jazz\, Dixieland. Sjangeren har fått mange namn og variantar. Bandet legg vekt på gode\nmelodilinjer og stoffet er i hovudsak henta fra trad- og swingperiodens glanstid\, 1920 -1940\, det som går under fellesnamnet ”Classic Jazz.” Dette repertoaret spenner frå vakre ballader til spenstig swing der det er vanskelig å halde godfoten i ro. Bandet går heller ikkje av vegen for å hive seg på stoff frå vår eiga tid.\nHot Jazz på Tredet. På Tredet den 17. september vert det servert ein god porsjon Hot Jazz\, ispedd\nstemningsfulle balladar\, kjende og mindre kjende melodiar frå 1920-30talet.
URL:https://tredet.no/event/jazzkafe-med-blue-horn-jazzband/
LOCATION:Tredet\, Halkjelsgate 8\, Volda\, Møre og Romsdal\, 6100\, Norge
ATTACH;FMTTYPE=image/jpeg:https://tredet.no/wp-content/uploads/2022/09/Blue-Horn.jpg
ORGANIZER;CN="Tredet":MAILTO:post@tredet.no
END:VEVENT
BEGIN:VEVENT
DTSTART;TZID=Europe/Oslo:20220923T210000
DTEND;TZID=Europe/Oslo:20220924T010000
DTSTAMP:20260424T193344
CREATED:20220815T231336Z
LAST-MODIFIED:20220908T103116Z
UID:2464-1663966800-1663981200@tredet.no
SUMMARY:BROTHERS IN ARMS - A TRIBUTE TO DIRE STRAITS
DESCRIPTION:Her e d berre å glede sej! «Brothers In Arms – a Tribute to Dire Straits» skal spele på Tredet! \n«Brothers In Arms – a Tribute to Dire Straits» vart danna i 2007 av sju mykje rutinerte musikarkameratar frå Ålesund og Brattvåg (også ein innflytta amerikanar og to innflytta nordlendingar). \nDei byrja i det små med ein årleg konsert på Teaterfabrikken i Ålesund. Bandet vart særs populært og spelte for fulle hus etter kvart. \nDire Straits\, med låtskrivar\, gitarist og vokalist Mark Knopfler i spissen\, leverte tidlause kvalitetsmusikk med utgjevingane frå slutten av 70-talet til byrjinga av 90-talet. Brothers In Arms spelar dei beste låtane til Dire Straits\, og dei varierer reportoaret litt frå konsert til konsert. Nokre låtar kjem dei sjølvsagt ikkje utanom\, som td. Sultans of Swing\, Money For Nothing\, Why Worry\, Romeo and Juliet\, og sjølvsagt Brothers In Arms! \nSjølv om «Brothers In Arms» gjer Dire Straist-låtane på sin måte\, vil publikum aldejles garantert kjenne att musikken og låtane. Og på konserten til «Brothers In Arms» på Tredet kan ein risikere både høøøøøge allsong\, taktfaste klapping og til og med enkelte so he lyst t å danse! \nDei som spelar i «Brothers In Arms»\, er \n* Erik James Anderson\, vokal\n* Ketil Strand\, gitar og vokal\n* Lars Øverås\, bass\n* Bjørn A. Skjelten\, trommer\n* Kjell Myklebust\, tangenter\n* Sten-Even Holstad\, gitar\n* Kjetil L: Ingvaldsen\, sax \, perc. og tangentar \nBillett kr. 250\,- kjøper de på tikkio.no\, eller i døra på Tredet om der er billettar til overs. \nAldersgrensa er 20 år.
URL:https://tredet.no/event/brothers-in-arms-a-tribute-to-dire-straits/
LOCATION:Tredet\, Halkjelsgate 8\, Volda\, Møre og Romsdal\, 6100\, Norge
ATTACH;FMTTYPE=image/jpeg:https://tredet.no/wp-content/uploads/2022/08/Dire-Straits.jpg
ORGANIZER;CN="Tredet":MAILTO:post@tredet.no
END:VEVENT
BEGIN:VEVENT
DTSTART;TZID=Europe/Oslo:20220930T210000
DTEND;TZID=Europe/Oslo:20220930T234500
DTSTAMP:20260424T193344
CREATED:20220922T090045Z
LAST-MODIFIED:20220922T120743Z
UID:2668-1664571600-1664581500@tredet.no
SUMMARY:KONSERT MED GIL EDWARDS
DESCRIPTION:Med flere hundre spilleoppdrag i året har Gil i løp av en 6 års periode opparbeidet seg et stort og trofast publikum på Vestlandet\, deler av Østlandet\, og Midtnorge. Gil ønsker med sin nye CD å tilfredstille det eksisterende publikum og samtidig erobre nye \nGil Edwards er født og oppvokst i USA. Musikk har opptatt ham så lenge han kan huske. Allerede som barn ble han sett på som et talent utenom det vanlige. I voksen alder fikk han tilbud om å reise til Norge for å spille av en amerikansk låttskriverorganisasjon. \nEdwards første møte med Norge ble ikke helt som ventet. Med gitaren og noen få personlige eiendeler forlot han hjemlandet og dro østover. \nDen første tiden i Norge ble tøff. Mange netter ble tilbrakt under broer og i bakgater i hovedstaden. Bestemt på å lykkes\, jobbet han seg bokstavelig bort fra rennesteinen. Oppdragene ble stadig flere og mer lønnsomme. \nHan opptrådte med band og solo. I dag er han en av landets mest populære og best betalte trubadurer. Det er først og fremst i små klubber og puber Gil har gjort suksess. Med sitt karakteristiske utseende og spektakulære show har han skaffet seg mange fans over hele landet. Repertoaret har stort sett bestått av andres sanger. Parallelt med turnelivet har Gil skrevet mye eget materiale. \nGil Edwards opererer innen en sjanger kalt Alternativ Country\, eller No Depression\, som sjangeren kalles i USA. \nKjennetegn for denne stilen er at musikken er mer rocka og tyngre en ordinær country. Denne stilarten får stadig flere tilhengere i USA. Dette takket være artister som Steve Earle og Son Volt. Vi har stor tro på at Gil Edwards vil være med på gjøre denne avarten av countrymusikk populær også i Norge. \nCd «Can’t Give It Up» har solgt ca. 8000 examplar med hjelp av riks dekkende TV kampanje på TV3 og sang fra plate som er brukte i en reklame film for Volkswagon. Bra plassering på riks radio og nærradio overalt i Norge. Og utalig mange live opptredener for folk over hele landet. \nKonsert frå kl. 21.00 – 23.45. \nBillett kr. 150\,- kjøpast i døra. \nAldersgrense 20 år. \nVelkomne skal de vere! 🙂
URL:https://tredet.no/event/konsert-med-gil-edwards/
LOCATION:Tredet\, Halkjelsgate 8\, Volda\, Møre og Romsdal\, 6100\, Norge
ATTACH;FMTTYPE=image/jpeg:https://tredet.no/wp-content/uploads/2022/09/IMG_0366.jpg
ORGANIZER;CN="Tredet":MAILTO:post@tredet.no
END:VEVENT
END:VCALENDAR