BEGIN:VCALENDAR
VERSION:2.0
PRODID:-//Tredet - ECPv6.9.0//NONSGML v1.0//EN
CALSCALE:GREGORIAN
METHOD:PUBLISH
X-ORIGINAL-URL:https://tredet.no
X-WR-CALDESC:Arrangementer for Tredet
REFRESH-INTERVAL;VALUE=DURATION:PT1H
X-Robots-Tag:noindex
X-PUBLISHED-TTL:PT1H
BEGIN:VTIMEZONE
TZID:Europe/Oslo
BEGIN:DAYLIGHT
TZOFFSETFROM:+0100
TZOFFSETTO:+0200
TZNAME:CEST
DTSTART:20240331T010000
END:DAYLIGHT
BEGIN:STANDARD
TZOFFSETFROM:+0200
TZOFFSETTO:+0100
TZNAME:CET
DTSTART:20241027T010000
END:STANDARD
END:VTIMEZONE
BEGIN:VEVENT
DTSTART;TZID=Europe/Oslo:20241025T200000
DTEND;TZID=Europe/Oslo:20241025T220000
DTSTAMP:20260425T061508
CREATED:20241016T161928Z
LAST-MODIFIED:20241016T161928Z
UID:4460-1729886400-1729893600@tredet.no
SUMMARY:"I'm Not a Robot!"
DESCRIPTION:Etter hvert som A.I. fortsetter å bli mer populært\, la oss feire hva det betyr å være menneske! Bli med Chase for en kveld med original\, flerinstrumentell folkpop og jazzmusikk som utforsker både tradisjonell og kunstig kreativitet – og kanskje til og med en kombinasjon av begge! \nChase Chandler er en allsidig post-sjanger komponist\, flerinstrumentalist og multimediekunstner som spesialiserer seg på moderne klassisk musikk\, improvisatorisk jazz og elektroakustisk samarbeid. Hans verk har blitt fremført internasjonalt av ensembler som PHACE og Brightwork Ensemble\, og har vært presentert på festivaler som Vienna Summer Music Festival\, Hear Now Festival i LA\, og VR-baserte Art Gate International. Med en rik bakgrunn som inkluderer undervisning i musikkteori ved Cal State University\, Fullerton\, og Saddleback Community College\, grunnleggelse og ledelse av Newgate Chamber Orchestra\, forfatterskap og selvpublisering av en science fiction-roman\, og skapelsen av visuelle kunstverk\, utmerker Chase seg i tverrfaglig samarbeid. Blant hans bemerkelsesverdige prosjekter er en audiovisuell installasjon for BRCvr 2021 og albumet «Soul Portrait» med cellisten Dr. James Alexander\, bestilt av kunstneren Jai Mitchel. Med en M.M. i Teori og Komposisjon fra CSUF og en B.A. i Vokalframføring/Musikkutdanning fra Concordia University\, Irvine\, er Chases arbeid preget av melodidrevne harmonier\, kontrapunktiske rytmer\, jazzinspirerte farger og intuitiv improvisasjon. \n——————————- \nAs A.I. continues to gain popularity\, let’s celebrate what it means to be human! Join Chase for a night of original\, multi-instrumental folk pop and jazz music\, exploring traditional and artificial creativity – and maybe even a combination of both! \nChase Chandler is a versatile post-genre composer\, multi-instrumental performer\, and multimedia creator specializing in contemporary classical music\, improvisatory jazz\, and electro-acoustic collaboration. His works have been performed internationally by ensembles like PHACE and Brightwork Ensemble\, and featured in festivals such as the Vienna Summer Music Festival\, Hear Now Festival in LA\, and VR-based Art Gate International. With a rich background that includes teaching music theory at Cal State University\, Fullerton\, and Saddleback Community College\, founding/directing the Newgate Chamber Orchestra\, writing/self-publishing a sci-fi novel\, and creating visual artworks\, Chase excels in interdisciplinary collaboration. Notable projects include an audiovisual installation for BRCvr 2021 and the album «Soul Portrait» with cellist Dr. James Alexander\, commissioned by the artist\, Jai Mitchel. With an M.M. in Theory & Composition from CSUF and a B.A. in Vocal Performance/Music Education from Concordia University\, Irvine\, Chase’s work is characterized by melodically-driven harmonies\, contrapuntal rhythms\, jazz-inspired colors\, and intuitive improvisation. \n 
URL:https://tredet.no/event/im-not-a-robot/
LOCATION:Tredet\, Halkjelsgate 8\, Volda\, Møre og Romsdal\, 6100\, Norge
ATTACH;FMTTYPE=image/png:https://tredet.no/wp-content/uploads/2024/10/Copy-of-chase-chandler.png
ORGANIZER;CN="Tredet":MAILTO:post@tredet.no
END:VEVENT
END:VCALENDAR