BEGIN:VCALENDAR
VERSION:2.0
PRODID:-//Tredet - ECPv6.9.0//NONSGML v1.0//EN
CALSCALE:GREGORIAN
METHOD:PUBLISH
X-ORIGINAL-URL:https://tredet.no
X-WR-CALDESC:Arrangementer for Tredet
REFRESH-INTERVAL;VALUE=DURATION:PT1H
X-Robots-Tag:noindex
X-PUBLISHED-TTL:PT1H
BEGIN:VTIMEZONE
TZID:Europe/Oslo
BEGIN:DAYLIGHT
TZOFFSETFROM:+0100
TZOFFSETTO:+0200
TZNAME:CEST
DTSTART:20240331T010000
END:DAYLIGHT
BEGIN:STANDARD
TZOFFSETFROM:+0200
TZOFFSETTO:+0100
TZNAME:CET
DTSTART:20241027T010000
END:STANDARD
END:VTIMEZONE
BEGIN:VEVENT
DTSTART;TZID=Europe/Oslo:20241019T230000
DTEND;TZID=Europe/Oslo:20241020T020000
DTSTAMP:20260425T025133
CREATED:20241005T184744Z
LAST-MODIFIED:20241005T184744Z
UID:4438-1729378800-1729389600@tredet.no
SUMMARY:Spooky House Proud
DESCRIPTION:Kom og bli med på en spennende halloween HouseProud på Tredet! Denne lørdagen vil Deppa Gris sørge for dansbare rytmer og frekke beats. Vær klar til en kveld fylt med (spøkelses-)hus-musikk og kanskje en smule allsang? Hvem vet hva kvelden vil bringe… Vi sees på Tredet! \nCome and join us for an exciting Halloween HouseProud at Tredet! This Saturday\, Deppa Gris will provide danceable rhythms and cheeky beats. Be prepared for an evening filled with spooky house music and maybe a bit of sing-along? Who knows what the evening will bring… See you at Tredet!
URL:https://tredet.no/event/spooky-house-proud/
LOCATION:Tredet\, Halkjelsgate 8\, Volda\, Møre og Romsdal\, 6100\, Norge
ATTACH;FMTTYPE=image/png:https://tredet.no/wp-content/uploads/2024/10/House-Proud-fbtikkiowebsite.png
ORGANIZER;CN="Tredet":MAILTO:post@tredet.no
END:VEVENT
END:VCALENDAR