BEGIN:VCALENDAR
VERSION:2.0
PRODID:-//Tredet - ECPv6.9.0//NONSGML v1.0//EN
CALSCALE:GREGORIAN
METHOD:PUBLISH
X-WR-CALNAME:Tredet
X-ORIGINAL-URL:https://tredet.no
X-WR-CALDESC:Arrangementer for Tredet
REFRESH-INTERVAL;VALUE=DURATION:PT1H
X-Robots-Tag:noindex
X-PUBLISHED-TTL:PT1H
BEGIN:VTIMEZONE
TZID:Europe/Oslo
BEGIN:DAYLIGHT
TZOFFSETFROM:+0100
TZOFFSETTO:+0200
TZNAME:CEST
DTSTART:20240331T010000
END:DAYLIGHT
BEGIN:STANDARD
TZOFFSETFROM:+0200
TZOFFSETTO:+0100
TZNAME:CET
DTSTART:20241027T010000
END:STANDARD
END:VTIMEZONE
BEGIN:VEVENT
DTSTART;TZID=Europe/Oslo:20241012T210000
DTEND;TZID=Europe/Oslo:20241013T000000
DTSTAMP:20260424T175556
CREATED:20241010T171704Z
LAST-MODIFIED:20241010T171704Z
UID:4449-1728766800-1728777600@tredet.no
SUMMARY:DISCO / Gratis livemusikk
DESCRIPTION:Tredet har et dansegulv med ditt navn på. Bli med oss når vi bringer de beste rytmene fra disco-æraen og setter fart på festen på Tredet! Helgen er her\, og energien er ‘elektrisk.’ Den første disco-kvelden er klar til å slippes løs her i Volda! \nTredet has a dance floor with your name on it. Join us as we bring the best beats from the disco era and funk things up at Tredet! The weekend is here and the energy is «electrifying.» The first disco themed night is ready to be unleashed here in Volda!
URL:https://tredet.no/event/disco-gratis-livemusikk/
LOCATION:Tredet\, Halkjelsgate 8\, Volda\, Møre og Romsdal\, 6100\, Norge
ATTACH;FMTTYPE=image/png:https://tredet.no/wp-content/uploads/2024/10/chase-chandler.png
ORGANIZER;CN="Tredet":MAILTO:post@tredet.no
END:VEVENT
END:VCALENDAR