BEGIN:VCALENDAR
VERSION:2.0
PRODID:-//Tredet - ECPv6.9.0//NONSGML v1.0//EN
CALSCALE:GREGORIAN
METHOD:PUBLISH
X-ORIGINAL-URL:https://tredet.no
X-WR-CALDESC:Arrangementer for Tredet
REFRESH-INTERVAL;VALUE=DURATION:PT1H
X-Robots-Tag:noindex
X-PUBLISHED-TTL:PT1H
BEGIN:VTIMEZONE
TZID:Europe/Oslo
BEGIN:DAYLIGHT
TZOFFSETFROM:+0100
TZOFFSETTO:+0200
TZNAME:CEST
DTSTART:20240331T010000
END:DAYLIGHT
BEGIN:STANDARD
TZOFFSETFROM:+0200
TZOFFSETTO:+0100
TZNAME:CET
DTSTART:20241027T010000
END:STANDARD
END:VTIMEZONE
BEGIN:VEVENT
DTSTART;TZID=Europe/Oslo:20241005T140000
DTEND;TZID=Europe/Oslo:20241005T160000
DTSTAMP:20260423T000810
CREATED:20240916T140453Z
LAST-MODIFIED:20240916T140453Z
UID:4391-1728136800-1728144000@tredet.no
SUMMARY:Jazzkafé - Kurt Sagen Jazzkvartett
DESCRIPTION:«Kurt Sagen Jazz Kvartett» med musikere fra Ålesund\, Vestnes og Molde. Sven Bernt Ellingseter-saksofoner\, Miki Campins-slagverk\, Erik Kristoffer Jenset-kontrabass/Vokal og Kurt Sagen -gitar. Bandet spiller klassiske jazzlåter\, krydret med egne arrangementer. Dette er stemningsfull og iørefallende akustisk jazz for folk flest\, og mange av melodiene blir framført i brasilianske rytmer som bossa nova og samba. \nKurt Sagen som er bandleder og gitarist\, har i en årrekke markert seg innen jazz og underholdnings-musikk i regionen. Han har i sin lange fartstid som musiker vært leder og gitarist i kjente lokale band som «West Coast Swing»\, «Blue Horn Jazzband»\, «Intermezzo Duo»\, «Molvær/Sagen Trio» og «Møre Swing Band». \nSven Bernt Ellingseter fra Fiksdalen er en begavet musiker og saksofonist. Bernt har lang fartstid fra tidligere band innen soul\, rock og blues. Han er også mye brukt som saksofonist i Molde sitt jazzmiljø. Han spiller også fast i «Artur Bleiken og hans Jazzbeskjed». \nMiki Campins spiller trommer. Han har Bachelor og Master i perkusjon. Han underviser nå på slagverk i Ålesund\, og gjør seg gjeldende på en rekke framtredende musikk-aktiviteter i regionen. Det er et privilegium å ha ham med som fast medlem også i dette bandet. \nErik Kristoffer Jenset har bosted i Molde og spiller kontrabass.  Erik oser av musikalitet og spilleglede på scena. Han spiller også i «Molde Jazzensemble» og «Artur Bleiken og hans Jazzbeskjed».
URL:https://tredet.no/event/jazzkafe-kurt-sagen-jazzkvartett-2/
LOCATION:Tredet\, Halkjelsgate 8\, Volda\, Møre og Romsdal\, 6100\, Norge
ATTACH;FMTTYPE=image/png:https://tredet.no/wp-content/uploads/2024/09/5.png
ORGANIZER;CN="Tredet":MAILTO:post@tredet.no
END:VEVENT
END:VCALENDAR