BEGIN:VCALENDAR
VERSION:2.0
PRODID:-//Tredet - ECPv6.9.0//NONSGML v1.0//EN
CALSCALE:GREGORIAN
METHOD:PUBLISH
X-WR-CALNAME:Tredet
X-ORIGINAL-URL:https://tredet.no
X-WR-CALDESC:Arrangementer for Tredet
REFRESH-INTERVAL;VALUE=DURATION:PT1H
X-Robots-Tag:noindex
X-PUBLISHED-TTL:PT1H
BEGIN:VTIMEZONE
TZID:Europe/Oslo
BEGIN:DAYLIGHT
TZOFFSETFROM:+0100
TZOFFSETTO:+0200
TZNAME:CEST
DTSTART:20240331T010000
END:DAYLIGHT
BEGIN:STANDARD
TZOFFSETFROM:+0200
TZOFFSETTO:+0100
TZNAME:CET
DTSTART:20241027T010000
END:STANDARD
END:VTIMEZONE
BEGIN:VEVENT
DTSTART;TZID=Europe/Oslo:20241003T200000
DTEND;TZID=Europe/Oslo:20241003T220000
DTSTAMP:20260423T000335
CREATED:20241001T162620Z
LAST-MODIFIED:20241001T162620Z
UID:4430-1727985600-1727992800@tredet.no
SUMMARY:Voldas Ønskelåter
DESCRIPTION:Bli med Chase Chandler når han fremfører forespørslene som dere har gitt ham! Klikk på lenken under for å sende inn din egen forespørsel. \nDen 3. oktober kl. 20:00 vil Chase fremføre alle låtønsker mottatt via dette Google-skjemaet! Vennligst send inn ønskelåter – alle ønsker vil bli vurdert\, og forhåpentligvis vil alle bli fremført! \nhttps://forms.gle/D3bN8hxRNHU1ubhi8  *Begrensning: 1 eller 2 sanger per person\n \nHer er et eksempel på en forespørsel han har gjort nylig:\n\nhttps://www.youtube.com/watch?v=xWt8Wk8iyOA\n \nDe fleste sjangre er velkomne\, og norske sanger er også velkomne (selv om det ikke er noen garanti for at norsken blir perfekt når de fremføres:D). Hvis Chase finner musikken\, vil han øve og fremføre dem den 3. oktober!\n \n\n\n\n\nOn October 3rd at 8pm\, Chase will be performing all requests received from this Google Form! Please feel free to request any song you’d like – all requests will be considered and hopefully all will be performed! https://forms.gle/D3bN8hxRNHU1ubhi8 *Limit: 1 or 2 songs per person\n\n\nHere’s an example of a request he’s done recently:\n\nhttps://www.youtube.com/watch?v=xWt8Wk8iyOA\n\n\nMost all genres are welcome and Norwegian songs are welcome (though there’s is no guarantee the Norwegian will be perfect when performed). If Chase is able to find the music\, he will practice and perform them on Oct. 3rd!
URL:https://tredet.no/event/voldas-onskelater/
LOCATION:Tredet\, Halkjelsgate 8\, Volda\, Møre og Romsdal\, 6100\, Norge
ATTACH;FMTTYPE=image/png:https://tredet.no/wp-content/uploads/2024/09/facebook-events-2024-16.png
ORGANIZER;CN="Tredet":MAILTO:post@tredet.no
END:VEVENT
END:VCALENDAR