BEGIN:VCALENDAR
VERSION:2.0
PRODID:-//Tredet - ECPv6.9.0//NONSGML v1.0//EN
CALSCALE:GREGORIAN
METHOD:PUBLISH
X-ORIGINAL-URL:https://tredet.no
X-WR-CALDESC:Arrangementer for Tredet
REFRESH-INTERVAL;VALUE=DURATION:PT1H
X-Robots-Tag:noindex
X-PUBLISHED-TTL:PT1H
BEGIN:VTIMEZONE
TZID:Europe/Oslo
BEGIN:DAYLIGHT
TZOFFSETFROM:+0100
TZOFFSETTO:+0200
TZNAME:CEST
DTSTART:20240331T010000
END:DAYLIGHT
BEGIN:STANDARD
TZOFFSETFROM:+0200
TZOFFSETTO:+0100
TZNAME:CET
DTSTART:20241027T010000
END:STANDARD
END:VTIMEZONE
BEGIN:VEVENT
DTSTART;TZID=Europe/Oslo:20241001T183000
DTEND;TZID=Europe/Oslo:20241001T203000
DTSTAMP:20260423T000811
CREATED:20240924T191406Z
LAST-MODIFIED:20240927T104121Z
UID:4404-1727807400-1727814600@tredet.no
SUMMARY:Strikkekafe med live piano
DESCRIPTION:Haust og ei fin strikketid framfor oss. Vi gler oss til sosialt samvær rundt felles interesse og mykje god prat. Senke skuldrene og kose oss. Lære av kvarandre\, og nye idear kan dukke opp. Alle – med og uten strikketøy- er hjarteleg velkomne\nVi held fram med Restegarnkrok. Har du garn som ikke blir brukt\, manglar noko eller kanskje kan bytte med andre\,- bruk restegarnkroken vår\nChase Chandler spelar klassisk bakgrunnsmusikk på piano\nUtloddingInngangspenger kr 50\,- betalar du i kassa.Merete og Astri Se mindre
URL:https://tredet.no/event/strikkekafe-11/
LOCATION:Tredet\, Halkjelsgate 8\, Volda\, Møre og Romsdal\, 6100\, Norge
ATTACH;FMTTYPE=image/jpeg:https://tredet.no/wp-content/uploads/2023/02/344720669_893751841709386_6923011187541849823_n.jpg
END:VEVENT
END:VCALENDAR