BEGIN:VCALENDAR
VERSION:2.0
PRODID:-//Tredet - ECPv6.9.0//NONSGML v1.0//EN
CALSCALE:GREGORIAN
METHOD:PUBLISH
X-ORIGINAL-URL:https://tredet.no
X-WR-CALDESC:Arrangementer for Tredet
REFRESH-INTERVAL;VALUE=DURATION:PT1H
X-Robots-Tag:noindex
X-PUBLISHED-TTL:PT1H
BEGIN:VTIMEZONE
TZID:Europe/Oslo
BEGIN:DAYLIGHT
TZOFFSETFROM:+0100
TZOFFSETTO:+0200
TZNAME:CEST
DTSTART:20240331T010000
END:DAYLIGHT
BEGIN:STANDARD
TZOFFSETFROM:+0200
TZOFFSETTO:+0100
TZNAME:CET
DTSTART:20241027T010000
END:STANDARD
END:VTIMEZONE
BEGIN:VEVENT
DTSTART;TZID=Europe/Oslo:20240927T123000
DTEND;TZID=Europe/Oslo:20240927T133000
DTSTAMP:20260423T002627
CREATED:20240927T075919Z
LAST-MODIFIED:20240927T075948Z
UID:4414-1727440200-1727443800@tredet.no
SUMMARY:Piano Kafé
DESCRIPTION:Finnes det noe bedre enn en koselig piano konsert sammen med lunsj\, kaffi og kake? 😀 \nVelkommen! \nHusk at vi har 15% studentrabatt på mat og drinker uten alkohol.
URL:https://tredet.no/event/piano-kafe/
LOCATION:Tredet\, Halkjelsgate 8\, Volda\, Møre og Romsdal\, 6100\, Norge
ATTACH;FMTTYPE=image/png:https://tredet.no/wp-content/uploads/2024/09/facebook-events-2024-14.png
ORGANIZER;CN="Tredet":MAILTO:post@tredet.no
END:VEVENT
BEGIN:VEVENT
DTSTART;TZID=Europe/Oslo:20240927T210000
DTEND;TZID=Europe/Oslo:20240927T223000
DTSTAMP:20260423T002627
CREATED:20240822T112240Z
LAST-MODIFIED:20240822T112240Z
UID:4307-1727470800-1727476200@tredet.no
SUMMARY:BriiF på Tredet
DESCRIPTION:BRiiF er eit band etablert med lokale musikarar frå Ålesundområdet med sans for stilartar med sjel og val av spennande låtar som betyr mykje for eiga musikalske utvikling. Repertoaret er bandet sine eigne låtar og dessutan eit herleg utval coverlåtar innan i jazz/funk/rythm & blues som blir handtert med sjel og trøkk. \nBandet starta den musikalske reisa si i 2008. \nBRiiF er: Kjetil Lunde Ingvaldsen; sax\, Bjørn A. Skjelten; trommer\, Ivar Holsvik; tangentar\, Bendik Valderhaug; gitar\, Lars Øverås; bass. \nTredet er ope til kl.02:00.
URL:https://tredet.no/event/briif-pa-tredet/
LOCATION:Tredet\, Halkjelsgate 8\, Volda\, Møre og Romsdal\, 6100\, Norge
ATTACH;FMTTYPE=image/jpeg:https://tredet.no/wp-content/uploads/2024/08/Copy-of-Facebook-events-2024.jpg
ORGANIZER;CN="Tredet":MAILTO:post@tredet.no
END:VEVENT
END:VCALENDAR