BEGIN:VCALENDAR
VERSION:2.0
PRODID:-//Tredet - ECPv6.9.0//NONSGML v1.0//EN
CALSCALE:GREGORIAN
METHOD:PUBLISH
X-ORIGINAL-URL:https://tredet.no
X-WR-CALDESC:Arrangementer for Tredet
REFRESH-INTERVAL;VALUE=DURATION:PT1H
X-Robots-Tag:noindex
X-PUBLISHED-TTL:PT1H
BEGIN:VTIMEZONE
TZID:Europe/Oslo
BEGIN:DAYLIGHT
TZOFFSETFROM:+0100
TZOFFSETTO:+0200
TZNAME:CEST
DTSTART:20240331T010000
END:DAYLIGHT
BEGIN:STANDARD
TZOFFSETFROM:+0200
TZOFFSETTO:+0100
TZNAME:CET
DTSTART:20241027T010000
END:STANDARD
END:VTIMEZONE
BEGIN:VEVENT
DTSTART;TZID=Europe/Oslo:20240920T210000
DTEND;TZID=Europe/Oslo:20240920T230000
DTSTAMP:20260423T000853
CREATED:20240723T100510Z
LAST-MODIFIED:20240723T100510Z
UID:4277-1726866000-1726873200@tredet.no
SUMMARY:Faculty of Funk
DESCRIPTION:Sunnmørsbandet Faculty of Funk dreg dei heitaste låtane når dei står på scena\, med eit repertoar som kan ta pusten frå dei fleste.Bandet har heile 12 medlemmar og med det full blåserekke\, eit tight komp og solid vokal\, og lovar heftige rytmar og solid trøkk frå første til siste låt.Bandet spelar på festivalar og utestadar\, og lagar alltid liv der dei er.Faculty of Funk spelar hovudsakleg soul- og groovebasert musikk frå 60- og 70-talet\, men har også med nokre hits frå nyare tider.\nPå scena:Ulf Kristiansen – altsaxAndreas Vadstein – altsaxBrynhild Hovden – barytonsax/tenorsax/korPernille Mouritsen – trombonePer Gunnar Flø – trompetArild Andenes – trompetKnut Hunnes – bassOtto-Magnus Evenstad – gitar/korStein Henrik Vartdal – keyboards/korHåkon Følsvik – trommerLinda Flusund – korJanne M. G. Skarstein – leadvokal\n\ngratis inngang etterpå
URL:https://tredet.no/event/faculty-of-funk-2/
LOCATION:Tredet\, Halkjelsgate 8\, Volda\, Møre og Romsdal\, 6100\, Norge
ATTACH;FMTTYPE=image/png:https://tredet.no/wp-content/uploads/2024/07/Copy-of-Facebook-events-2024-6.png
ORGANIZER;CN="Tredet":MAILTO:post@tredet.no
END:VEVENT
END:VCALENDAR