BEGIN:VCALENDAR
VERSION:2.0
PRODID:-//Tredet - ECPv6.9.0//NONSGML v1.0//EN
CALSCALE:GREGORIAN
METHOD:PUBLISH
X-ORIGINAL-URL:https://tredet.no
X-WR-CALDESC:Arrangementer for Tredet
REFRESH-INTERVAL;VALUE=DURATION:PT1H
X-Robots-Tag:noindex
X-PUBLISHED-TTL:PT1H
BEGIN:VTIMEZONE
TZID:Europe/Oslo
BEGIN:DAYLIGHT
TZOFFSETFROM:+0100
TZOFFSETTO:+0200
TZNAME:CEST
DTSTART:20240331T010000
END:DAYLIGHT
BEGIN:STANDARD
TZOFFSETFROM:+0200
TZOFFSETTO:+0100
TZNAME:CET
DTSTART:20241027T010000
END:STANDARD
END:VTIMEZONE
BEGIN:VEVENT
DTSTART;TZID=Europe/Oslo:20240914T210000
DTEND;TZID=Europe/Oslo:20240915T020000
DTSTAMP:20260423T000850
CREATED:20240903T140003Z
LAST-MODIFIED:20240903T140003Z
UID:4362-1726347600-1726365600@tredet.no
SUMMARY:Øystein Eckhoff & Aidan O'Brien
DESCRIPTION:Godtfolk!\nVår irske venn og multitalent Aidan O’Brien er “back in town”\, og kva kan vel passe betre enn ein krisp laurdagskveld saman med Tredet sin trubadurmaskot Øystein Eckhoff?\nAidan og Øystein har vitja Tredet ved fleire høver\, og som vanleg lovar dei nystemde seksløparar\, flatterande ordbruk\, smekre akkordar\, tostemt hoing og hylande allsong til langt over leggetid. Berre å leite fram haustkjolen\, godskjorta\, brylkrem og dansesko!
URL:https://tredet.no/event/oystein-eckhoff-aidan-obrien-2/
LOCATION:Tredet\, Halkjelsgate 8\, Volda\, Møre og Romsdal\, 6100\, Norge
ATTACH;FMTTYPE=image/png:https://tredet.no/wp-content/uploads/2024/09/Copy-of-Facebook-events-2024-19.png
ORGANIZER;CN="Tredet":MAILTO:post@tredet.no
END:VEVENT
END:VCALENDAR