BEGIN:VCALENDAR
VERSION:2.0
PRODID:-//Tredet - ECPv6.9.0//NONSGML v1.0//EN
CALSCALE:GREGORIAN
METHOD:PUBLISH
X-WR-CALNAME:Tredet
X-ORIGINAL-URL:https://tredet.no
X-WR-CALDESC:Arrangementer for Tredet
REFRESH-INTERVAL;VALUE=DURATION:PT1H
X-Robots-Tag:noindex
X-PUBLISHED-TTL:PT1H
BEGIN:VTIMEZONE
TZID:Europe/Oslo
BEGIN:DAYLIGHT
TZOFFSETFROM:+0100
TZOFFSETTO:+0200
TZNAME:CEST
DTSTART:20240331T010000
END:DAYLIGHT
BEGIN:STANDARD
TZOFFSETFROM:+0200
TZOFFSETTO:+0100
TZNAME:CET
DTSTART:20241027T010000
END:STANDARD
END:VTIMEZONE
BEGIN:VEVENT
DTSTART;TZID=Europe/Oslo:20240907T230000
DTEND;TZID=Europe/Oslo:20240908T010000
DTSTAMP:20260423T000334
CREATED:20240903T141629Z
LAST-MODIFIED:20240905T103716Z
UID:4365-1725750000-1725757200@tredet.no
SUMMARY:HipHop Night på Tredet
DESCRIPTION:Kom og få med deg en fantastisk hiphopkveld på Tredet!\nVi har med oss talentfulle artister som Nawaz\, Yomi\, Leon Noir\, Simba\, Ha$9\, Rappo. Dette blir en lørdagskveld fylt med god stemning og kunstnerisk utfoldelse. For første gang i historien arrangerer vi et hiphoparrangement på Tredet\, så dette vil du ikke gå glipp av!\nVelkommen! \nBillettar kan kjøpes i døra (100\,- student\, 150\,- vanlig).\nAldersgrense 20 år.\nTredet er ope til kl.02:00.
URL:https://tredet.no/event/hiphop-night-pa-tredet/
LOCATION:Tredet\, Halkjelsgate 8\, Volda\, Møre og Romsdal\, 6100\, Norge
ATTACH;FMTTYPE=image/png:https://tredet.no/wp-content/uploads/2024/09/Copy-of-Facebook-events-2024-20.png
ORGANIZER;CN="Tredet":MAILTO:post@tredet.no
END:VEVENT
END:VCALENDAR