BEGIN:VCALENDAR
VERSION:2.0
PRODID:-//Tredet - ECPv6.9.0//NONSGML v1.0//EN
CALSCALE:GREGORIAN
METHOD:PUBLISH
X-WR-CALNAME:Tredet
X-ORIGINAL-URL:https://tredet.no
X-WR-CALDESC:Arrangementer for Tredet
REFRESH-INTERVAL;VALUE=DURATION:PT1H
X-Robots-Tag:noindex
X-PUBLISHED-TTL:PT1H
BEGIN:VTIMEZONE
TZID:Europe/Oslo
BEGIN:DAYLIGHT
TZOFFSETFROM:+0100
TZOFFSETTO:+0200
TZNAME:CEST
DTSTART:20240331T010000
END:DAYLIGHT
BEGIN:STANDARD
TZOFFSETFROM:+0200
TZOFFSETTO:+0100
TZNAME:CET
DTSTART:20241027T010000
END:STANDARD
END:VTIMEZONE
BEGIN:VEVENT
DTSTART;TZID=Europe/Oslo:20240727T220000
DTEND;TZID=Europe/Oslo:20240728T020000
DTSTAMP:20260422T204926
CREATED:20240723T100557Z
LAST-MODIFIED:20240724T144019Z
UID:4274-1722117600-1722132000@tredet.no
SUMMARY:Duo Lada
DESCRIPTION:Duo Lada kjem attende til Tredet\, i god stil med vinylplater og solbriller. Her er det ikkje anna å forvente enn god gammal house\, techno og klubbstemning! \nDuo Lada returns to Tredet\, in good style with vinyl records and sunglasses. Here you can expect nothing but good old house\, techno and a club atmosphere! \n  \nBillettar selges i døra. Vipps eller kontant. 150\,- (100\,- student).
URL:https://tredet.no/event/duo-lada/
LOCATION:Tredet\, Halkjelsgate 8\, Volda\, Møre og Romsdal\, 6100\, Norge
ATTACH;FMTTYPE=image/png:https://tredet.no/wp-content/uploads/2024/07/Copy-of-Facebook-events-2024-5.png
ORGANIZER;CN="Tredet":MAILTO:post@tredet.no
END:VEVENT
END:VCALENDAR