BEGIN:VCALENDAR
VERSION:2.0
PRODID:-//Tredet - ECPv6.9.0//NONSGML v1.0//EN
CALSCALE:GREGORIAN
METHOD:PUBLISH
X-ORIGINAL-URL:https://tredet.no
X-WR-CALDESC:Arrangementer for Tredet
REFRESH-INTERVAL;VALUE=DURATION:PT1H
X-Robots-Tag:noindex
X-PUBLISHED-TTL:PT1H
BEGIN:VTIMEZONE
TZID:Europe/Oslo
BEGIN:DAYLIGHT
TZOFFSETFROM:+0100
TZOFFSETTO:+0200
TZNAME:CEST
DTSTART:20240331T010000
END:DAYLIGHT
BEGIN:STANDARD
TZOFFSETFROM:+0200
TZOFFSETTO:+0100
TZNAME:CET
DTSTART:20241027T010000
END:STANDARD
END:VTIMEZONE
BEGIN:VEVENT
DTSTART;TZID=Europe/Oslo:20240608T230000
DTEND;TZID=Europe/Oslo:20240609T020000
DTSTAMP:20260422T190850
CREATED:20240528T100117Z
LAST-MODIFIED:20240608T080709Z
UID:4256-1717887600-1717898400@tredet.no
SUMMARY:House Proud
DESCRIPTION:DJ G-Fønk tar over «House Proud» denne gangen! Gjør deg klar for en natt med housemusikk og mye dansing!\nBillettar på tikkio frå fredag 07.06.2024. (Husk å ta med gyldig studentbevis). House Proud er et arrangement på Tredet en lørdag i måneden for alle house-musikkelskere.\nTredet er ope frå kl.11 om morgenen til kl.02 om natta.\n\n\nDJ G-Fønk will be taking over «House Proud» this time! Get ready for a night of awesome house music and lots of dancing!\nTickets available on tikkio from Friday 07.06.2024. (Remember to bring a valid student ID).House Proud is an event at Tredet one Saturday a month for all house music lovers.\nTredet is open from 11am til 2am.
URL:https://tredet.no/event/house-proud/
LOCATION:Tredet\, Halkjelsgate 8\, Volda\, Møre og Romsdal\, 6100\, Norge
ATTACH;FMTTYPE=image/png:https://tredet.no/wp-content/uploads/2024/04/Copy-of-Facebook-events-2024.png
ORGANIZER;CN="Tredet":MAILTO:post@tredet.no
END:VEVENT
END:VCALENDAR