BEGIN:VCALENDAR
VERSION:2.0
PRODID:-//Tredet - ECPv6.9.0//NONSGML v1.0//EN
CALSCALE:GREGORIAN
METHOD:PUBLISH
X-WR-CALNAME:Tredet
X-ORIGINAL-URL:https://tredet.no
X-WR-CALDESC:Arrangementer for Tredet
REFRESH-INTERVAL;VALUE=DURATION:PT1H
X-Robots-Tag:noindex
X-PUBLISHED-TTL:PT1H
BEGIN:VTIMEZONE
TZID:Europe/Oslo
BEGIN:DAYLIGHT
TZOFFSETFROM:+0100
TZOFFSETTO:+0200
TZNAME:CEST
DTSTART:20240331T010000
END:DAYLIGHT
BEGIN:STANDARD
TZOFFSETFROM:+0200
TZOFFSETTO:+0100
TZNAME:CET
DTSTART:20241027T010000
END:STANDARD
END:VTIMEZONE
BEGIN:VEVENT
DTSTART;TZID=Europe/Oslo:20240511T230000
DTEND;TZID=Europe/Oslo:20240512T020000
DTSTAMP:20260422T172444
CREATED:20240426T113325Z
LAST-MODIFIED:20240426T113325Z
UID:4212-1715468400-1715479200@tredet.no
SUMMARY:House Pride
DESCRIPTION:Denne gangen på “House Proud” vil vi feire Bygdepride med vårt arrangement “House Pride”. DJ Deppa Gris vil avslutte Bygdepride-uken med en god blanding housemusikk.\nLørdag 11.05.2024 kl. 23-02 (Tredet er ope kl.11-02 denne dagen). Billettar på tikkio. (Husk å ta med gyldig studentbevis). House Proud er et arrangement på Tredet en lørdag i måneden for alle house-musikkelskere.\n\n\nThis time at «House Proud» we will celebrate Bygdepride with our event «House Pride». DJ Deppa Gris will end Bygdepride week with a good mix of house music.\nSaturday 11.05.2024 at 23-02 (Tredet is open at 11-02 this day). Tickets available on tikkio. (Remember to bring a valid student ID).House Proud is an event at Tredet one Saturday a month for all house music lovers.
URL:https://tredet.no/event/house-pride-2/
LOCATION:Tredet\, Halkjelsgate 8\, Volda\, Møre og Romsdal\, 6100\, Norge
ATTACH;FMTTYPE=image/png:https://tredet.no/wp-content/uploads/2024/04/2.png
ORGANIZER;CN="Tredet":MAILTO:post@tredet.no
END:VEVENT
END:VCALENDAR