BEGIN:VCALENDAR
VERSION:2.0
PRODID:-//Tredet - ECPv6.9.0//NONSGML v1.0//EN
CALSCALE:GREGORIAN
METHOD:PUBLISH
X-ORIGINAL-URL:https://tredet.no
X-WR-CALDESC:Arrangementer for Tredet
REFRESH-INTERVAL;VALUE=DURATION:PT1H
X-Robots-Tag:noindex
X-PUBLISHED-TTL:PT1H
BEGIN:VTIMEZONE
TZID:Europe/Oslo
BEGIN:DAYLIGHT
TZOFFSETFROM:+0100
TZOFFSETTO:+0200
TZNAME:CEST
DTSTART:20240331T010000
END:DAYLIGHT
BEGIN:STANDARD
TZOFFSETFROM:+0200
TZOFFSETTO:+0100
TZNAME:CET
DTSTART:20241027T010000
END:STANDARD
END:VTIMEZONE
BEGIN:VEVENT
DTSTART;TZID=Europe/Oslo:20240406T230000
DTEND;TZID=Europe/Oslo:20240407T020000
DTSTAMP:20260422T190810
CREATED:20240402T184040Z
LAST-MODIFIED:20240402T184040Z
UID:4065-1712444400-1712455200@tredet.no
SUMMARY:House Proud: X2 Warm Up
DESCRIPTION:Tredet presenterer: «House Proud» – et månedlig arrangement på lørdager som hyller house musikk til det fulle! \nSiden X2 Festivalen er rett rundt hjørnet\, så kickstarter DJ TWAT «House Proud» med en X2 Warm Up nå førstkommende lørdag\, der man får høre deilig musikk av typen funk house\, disco house og tech house. \nBilletter:\n100\,-\n50\,- for studenter (Husk å ta med gyldig studentbevis)\nBilletter kan kjøpes på Tikkio.com! \nTidspunkt:\n23:00-02:00 \nAldersgrense: 20 år \nENGLISH \nTredet presents: «House Proud» – first of a monthly Saturday event that celebrates and embraces house music at it’s fullest! \nAs the X2 festival is right around the corner\, DJ TWAT will kick «House Proud» off this Saturday\, with an X2 Warm Up with solid tunes of funk\, disco and tech house that will have you dancing all night. \nTickets:\n100\,-\n50\,- for students (remember to bring valid student ID with you)\nTickets can be purchased at Tikkio.com! \nTime: 23:00-02:00 \nAge limit: 20 years
URL:https://tredet.no/event/house-proud-x2-warm-up/
LOCATION:Tredet\, Halkjelsgate 8\, Volda\, Møre og Romsdal\, 6100\, Norge
ATTACH;FMTTYPE=image/png:https://tredet.no/wp-content/uploads/2024/04/Copy-of-Facebook-events-2024.png
ORGANIZER;CN="Tredet":MAILTO:post@tredet.no
END:VEVENT
END:VCALENDAR