BEGIN:VCALENDAR
VERSION:2.0
PRODID:-//Tredet - ECPv6.9.0//NONSGML v1.0//EN
CALSCALE:GREGORIAN
METHOD:PUBLISH
X-ORIGINAL-URL:https://tredet.no
X-WR-CALDESC:Arrangementer for Tredet
REFRESH-INTERVAL;VALUE=DURATION:PT1H
X-Robots-Tag:noindex
X-PUBLISHED-TTL:PT1H
BEGIN:VTIMEZONE
TZID:Europe/Oslo
BEGIN:DAYLIGHT
TZOFFSETFROM:+0100
TZOFFSETTO:+0200
TZNAME:CEST
DTSTART:20240331T010000
END:DAYLIGHT
BEGIN:STANDARD
TZOFFSETFROM:+0200
TZOFFSETTO:+0100
TZNAME:CET
DTSTART:20241027T010000
END:STANDARD
END:VTIMEZONE
BEGIN:VEVENT
DTSTART;TZID=Europe/Oslo:20240329T220000
DTEND;TZID=Europe/Oslo:20240330T010000
DTSTAMP:20260422T212026
CREATED:20240324T103945Z
LAST-MODIFIED:20240329T191407Z
UID:4049-1711749600-1711760400@tredet.no
SUMMARY:Sticks på Tredet
DESCRIPTION:Sticks spelar på Tredet langfredag.\nBandet spelar coverlåtar fra Rythm & blues\, soul\, blues og rock.\nPublikum vil mellom anna få høre låtar av John Mayer\, Robert Cray\, Robben Ford\, Eric Clapton\, Randy Newman\, Stevie Wonder etc.\nBandet består av:\nDan Åsebø – gitar\nSvein Hunnes – bass\nØyvind Lied – keyboard/vokal\nStein Lied – trommer /vokal \nTredet er ope kl.20-02 \nSticks spelar frå ca. kl.22-01.
URL:https://tredet.no/event/stick-pa-tredet/
LOCATION:Tredet\, Halkjelsgate 8\, Volda\, Møre og Romsdal\, 6100\, Norge
ATTACH;FMTTYPE=image/png:https://tredet.no/wp-content/uploads/2024/03/Facebook-events-2024-4.png
ORGANIZER;CN="Tredet":MAILTO:post@tredet.no
END:VEVENT
BEGIN:VEVENT
DTSTART;TZID=Europe/Oslo:20240330T190000
DTEND;TZID=Europe/Oslo:20240330T210000
DTSTAMP:20260422T212026
CREATED:20240208T113507Z
LAST-MODIFIED:20240330T132626Z
UID:3983-1711825200-1711832400@tredet.no
SUMMARY:Quiz with Martin Sørvold
DESCRIPTION:!! Due to Martin not being able to attend Andreas Himmelskip will be taking his place tonight. \nJoin Martin Sørvold for an engaging quiz experience in English & Norwegian! With thrilling questions and a friendly competitive atmosphere\, it’s the perfect chance to show off your expertise. The kitchen is open until 20:00 (15% studentdiscount on food). \nTime: 19:00 to 21:00\nTeam Size: max. 5 people per team (no cellphones)\nEntry Fee: 50\,- per contestant\nPlease book a table in addition to purchasing a ticket on tikkio (link will be added soon). \nSee you there!
URL:https://tredet.no/event/quiz-with-martin-sorvold-7/
LOCATION:Tredet\, Halkjelsgate 8\, Volda\, Møre og Romsdal\, 6100\, Norge
ORGANIZER;CN="Tredet":MAILTO:post@tredet.no
END:VEVENT
END:VCALENDAR