BEGIN:VCALENDAR
VERSION:2.0
PRODID:-//Tredet - ECPv6.9.0//NONSGML v1.0//EN
CALSCALE:GREGORIAN
METHOD:PUBLISH
X-ORIGINAL-URL:https://tredet.no
X-WR-CALDESC:Arrangementer for Tredet
REFRESH-INTERVAL;VALUE=DURATION:PT1H
X-Robots-Tag:noindex
X-PUBLISHED-TTL:PT1H
BEGIN:VTIMEZONE
TZID:Europe/Oslo
BEGIN:DAYLIGHT
TZOFFSETFROM:+0100
TZOFFSETTO:+0200
TZNAME:CEST
DTSTART:20240331T010000
END:DAYLIGHT
BEGIN:STANDARD
TZOFFSETFROM:+0200
TZOFFSETTO:+0100
TZNAME:CET
DTSTART:20241027T010000
END:STANDARD
END:VTIMEZONE
BEGIN:VEVENT
DTSTART;TZID=Europe/Oslo:20240316T140000
DTEND;TZID=Europe/Oslo:20240316T160000
DTSTAMP:20260422T205355
CREATED:20240122T110246Z
LAST-MODIFIED:20240122T110556Z
UID:3913-1710597600-1710604800@tredet.no
SUMMARY:Jazzkafé - Molde Jazzensemble
DESCRIPTION:Molde Jazzensemble ble stiftet sommeren 2018\, og består av spilleglade musikere med utspring i Storyvillemiljøet i Molde. Repertoaret er i stor grad hentet fra 50- og 60-tallets hard-bop og mainstream-æra\, samt noe egenskrevet materiale. Alle låtene er arrangert av og for besetningen. \n  \nBesetning: \n• Kjell Nyland – Trompet \n• Ketil Venås – Tenorsaksofon \n• Magne Falk – Altsaksofon \n• Trond Aunan – Piano/Rhodes \n• Erik Jenset – Bass \n• Espen Krumpolc – Trommer \n• Dag-Runar Wikeland – Gitar
URL:https://tredet.no/event/jazzkafe-molde-jazzensemble/
LOCATION:Tredet\, Halkjelsgate 8\, Volda\, Møre og Romsdal\, 6100\, Norge
ATTACH;FMTTYPE=image/png:https://tredet.no/wp-content/uploads/2024/01/8.png
ORGANIZER;CN="Tredet":MAILTO:post@tredet.no
END:VEVENT
END:VCALENDAR