BEGIN:VCALENDAR
VERSION:2.0
PRODID:-//Tredet - ECPv6.9.0//NONSGML v1.0//EN
CALSCALE:GREGORIAN
METHOD:PUBLISH
X-ORIGINAL-URL:https://tredet.no
X-WR-CALDESC:Arrangementer for Tredet
REFRESH-INTERVAL;VALUE=DURATION:PT1H
X-Robots-Tag:noindex
X-PUBLISHED-TTL:PT1H
BEGIN:VTIMEZONE
TZID:Europe/Oslo
BEGIN:DAYLIGHT
TZOFFSETFROM:+0100
TZOFFSETTO:+0200
TZNAME:CEST
DTSTART:20230326T010000
END:DAYLIGHT
BEGIN:STANDARD
TZOFFSETFROM:+0200
TZOFFSETTO:+0100
TZNAME:CET
DTSTART:20231029T010000
END:STANDARD
END:VTIMEZONE
BEGIN:VEVENT
DTSTART;TZID=Europe/Oslo:20230221T200000
DTEND;TZID=Europe/Oslo:20230221T220000
DTSTAMP:20260424T131805
CREATED:20230215T114345Z
LAST-MODIFIED:20230215T114426Z
UID:3090-1677009600-1677016800@tredet.no
SUMMARY:Standup på Tredet
DESCRIPTION:Standup på Tredet\, dette er din sjanse! Tysdag 21.02.2023 kl.20-22 er det open mic comdey natt på Tredet. Alle språk er velkomment! Book deg eit bord nå ved å sende ei melding eller på nettsida vår www.tredet.no. Aldersgrense 20år. TAG ein person som burde stå på scena denne kvelden!\ngratis inngang\n\n\n\nIf you think you’re funny or just want to feel the experience of performing live this is your chance! Tuesday 21.02.2023 8pm-10pm we host a open mic comedy night at Tredet. All languages welcome! Book a table now by sending a message or visit our website. Age limit 20+. Tag someone you think should be standing on that stage\nfree entrance
URL:https://tredet.no/event/standup-pa-tredet/
LOCATION:Tredet\, Halkjelsgate 8\, Volda\, Møre og Romsdal\, 6100\, Norge
ATTACH;FMTTYPE=image/png:https://tredet.no/wp-content/uploads/2023/02/comedy-fb-event-cover.png
ORGANIZER;CN="Tredet":MAILTO:post@tredet.no
END:VEVENT
END:VCALENDAR