BEGIN:VCALENDAR
VERSION:2.0
PRODID:-//Tredet - ECPv6.9.0//NONSGML v1.0//EN
CALSCALE:GREGORIAN
METHOD:PUBLISH
X-ORIGINAL-URL:https://tredet.no
X-WR-CALDESC:Arrangementer for Tredet
REFRESH-INTERVAL;VALUE=DURATION:PT1H
X-Robots-Tag:noindex
X-PUBLISHED-TTL:PT1H
BEGIN:VTIMEZONE
TZID:Europe/Oslo
BEGIN:DAYLIGHT
TZOFFSETFROM:+0100
TZOFFSETTO:+0200
TZNAME:CEST
DTSTART:20230326T010000
END:DAYLIGHT
BEGIN:STANDARD
TZOFFSETFROM:+0200
TZOFFSETTO:+0100
TZNAME:CET
DTSTART:20231029T010000
END:STANDARD
END:VTIMEZONE
BEGIN:VEVENT
DTSTART;TZID=Europe/Oslo:20230218T210000
DTEND;TZID=Europe/Oslo:20230219T020000
DTSTAMP:20260424T130526
CREATED:20230207T134855Z
LAST-MODIFIED:20230207T135523Z
UID:3063-1676754000-1676772000@tredet.no
SUMMARY:White House Family (WHF#5)
DESCRIPTION:Whitehouse Family tek med seg store delar av familien og spelar opp på Tredet. Det blir ein fullspikka kveld med band i forskjellige sjangerar: \nEidem 21:00\nKløvning 21:30\nMAK 21:55\nSjur & Inga 22:25\nPöck 22:40\nOld John jr. & The Wailing Jennys 23:10\nPastor Rex 23:40\nTrio De Lid 00:10\nLOOF 00:40
URL:https://tredet.no/event/white-house-family-whf5/
LOCATION:Tredet\, Halkjelsgate 8\, Volda\, Møre og Romsdal\, 6100\, Norge
ATTACH;FMTTYPE=image/png:https://tredet.no/wp-content/uploads/2023/02/2-1.png
ORGANIZER;CN="Tredet":MAILTO:post@tredet.no
END:VEVENT
END:VCALENDAR