BEGIN:VCALENDAR
VERSION:2.0
PRODID:-//Tredet - ECPv6.9.0//NONSGML v1.0//EN
CALSCALE:GREGORIAN
METHOD:PUBLISH
X-ORIGINAL-URL:https://tredet.no
X-WR-CALDESC:Arrangementer for Tredet
REFRESH-INTERVAL;VALUE=DURATION:PT1H
X-Robots-Tag:noindex
X-PUBLISHED-TTL:PT1H
BEGIN:VTIMEZONE
TZID:Europe/Oslo
BEGIN:DAYLIGHT
TZOFFSETFROM:+0100
TZOFFSETTO:+0200
TZNAME:CEST
DTSTART:20230326T010000
END:DAYLIGHT
BEGIN:STANDARD
TZOFFSETFROM:+0200
TZOFFSETTO:+0100
TZNAME:CET
DTSTART:20231029T010000
END:STANDARD
END:VTIMEZONE
BEGIN:VEVENT
DTSTART;TZID=Europe/Oslo:20230214T173000
DTEND;TZID=Europe/Oslo:20230214T200000
DTSTAMP:20260424T130657
CREATED:20230131T194202Z
LAST-MODIFIED:20230131T194202Z
UID:3057-1676395800-1676404800@tredet.no
SUMMARY:Strikkekafe
DESCRIPTION:For dei som har avisa Møre\, så kunne vi lese artikkelen om Ingvild Rydjord Hansen og sambueren som driv Inste Rønstad gard på Folkestad. Dei driv med trøndersau\, og ulla vert til strikke og vevegarn\, som dei skal starte opp og selge. Ho kjem til oss og fortel om garnet og garden. Spennande!\nDet vert også utlodding!\nKjøkkenet er ope til kl 18.00\, så dei som ynskjer varm mat\, må huske å bestille det før kl 18.00. Elles er menyen som før.\nVi gler oss til å møte «gamle» og nye til sosialt samvær\, og lar pinnene gå. Eller har du berre lyst til å kose deg ilag med oss\, så er du sjølvsagt hjarteleg velkommen.\nMerete og Astri
URL:https://tredet.no/event/strikkekafe-3/
LOCATION:Tredet\, Halkjelsgate 8\, Volda\, Møre og Romsdal\, 6100\, Norge
ATTACH;FMTTYPE=image/jpeg:https://tredet.no/wp-content/uploads/2022/01/Strikkekafe-e1641371201101.jpeg
ORGANIZER;CN="Tredet":MAILTO:post@tredet.no
END:VEVENT
END:VCALENDAR