BEGIN:VCALENDAR
VERSION:2.0
PRODID:-//Tredet - ECPv6.9.0//NONSGML v1.0//EN
CALSCALE:GREGORIAN
METHOD:PUBLISH
X-ORIGINAL-URL:https://tredet.no
X-WR-CALDESC:Arrangementer for Tredet
REFRESH-INTERVAL;VALUE=DURATION:PT1H
X-Robots-Tag:noindex
X-PUBLISHED-TTL:PT1H
BEGIN:VTIMEZONE
TZID:Europe/Oslo
BEGIN:DAYLIGHT
TZOFFSETFROM:+0100
TZOFFSETTO:+0200
TZNAME:CEST
DTSTART:20230326T010000
END:DAYLIGHT
BEGIN:STANDARD
TZOFFSETFROM:+0200
TZOFFSETTO:+0100
TZNAME:CET
DTSTART:20231029T010000
END:STANDARD
END:VTIMEZONE
BEGIN:VEVENT
DTSTART;TZID=Europe/Oslo:20230203T220000
DTEND;TZID=Europe/Oslo:20230204T020000
DTSTAMP:20260424T144321
CREATED:20230125T151537Z
LAST-MODIFIED:20230125T151655Z
UID:3031-1675461600-1675476000@tredet.no
SUMMARY:Eidem
DESCRIPTION:Øvingskollektivet White House på Steinnes i Ørsta har blitt ei kreativ maurtue av aktive band frå alle sjangrar. Her er det både funk\, punk\, jazz\, rock\, folkemusikk\, country\, metal og blues.\nEIDEM er fem leikne individ med ulike erfaringar som ville leike seg med bluesen – prøve å både gjere det autentiske men òg å leike seg innanfor fridomen som sjangeren tilbyr. Bandet er relativt ferskt\, med eit knippe spelejobbar rundt i fylket til no\, men dette er ein erfaren gjeng musikarar. For første gong kjem dei til Tredet og Volda med ein stadig aukande andel sjølvkomponert musikk og blåtonar du ikkje har høyrt før. Spe på med både klassiske og moderne favoritter så har du ein konsert med Eidem. Høyrest bra ut? Kom på konsert så får du høyre meir. \nEIDEM:\nLinda Eidem – vokal\nHans Førde – kontrastbass\nKlaus Blø – gitar / vokal\nTorbjørn Frantsen – tangentar\nKnut Steinnes – slagverk \n  \nBillettar kan kjøpes på: https://tikkio.com/tickets/35772-eidem
URL:https://tredet.no/event/eidem/
LOCATION:Tredet\, Halkjelsgate 8\, Volda\, Møre og Romsdal\, 6100\, Norge
ORGANIZER;CN="Tredet":MAILTO:post@tredet.no
END:VEVENT
BEGIN:VEVENT
DTSTART;TZID=Europe/Oslo:20230204T140000
DTEND;TZID=Europe/Oslo:20230204T160000
DTSTAMP:20260424T144321
CREATED:20230131T111240Z
LAST-MODIFIED:20230131T174536Z
UID:3047-1675519200-1675526400@tredet.no
SUMMARY:Jazzkafé HVO Musikkstudentar
DESCRIPTION:Denne laurdagen vil jazzklubben presentere studentar som går på musikk ved høgskulen i Volda. Musikken som vert presentert er melodiøs og fengande. Mykje av repertoaret er knytt til popmusikk\, men også ein og annan jazzstandard kan dukke opp. Me får oppleve fleire solistar og me håpar du gler deg like mykje som oss til å høyre kva desse studentane kan formidla av variert musikk.\n\nGratis inngong. \nVelkomne skal de vere!
URL:https://tredet.no/event/jazzkafe-hvo-musikkstudentar/
LOCATION:Tredet\, Halkjelsgate 8\, Volda\, Møre og Romsdal\, 6100\, Norge
ORGANIZER;CN="Tredet":MAILTO:post@tredet.no
END:VEVENT
END:VCALENDAR