BEGIN:VCALENDAR
VERSION:2.0
PRODID:-//Tredet - ECPv6.9.0//NONSGML v1.0//EN
CALSCALE:GREGORIAN
METHOD:PUBLISH
X-WR-CALNAME:Tredet
X-ORIGINAL-URL:https://tredet.no
X-WR-CALDESC:Arrangementer for Tredet
REFRESH-INTERVAL;VALUE=DURATION:PT1H
X-Robots-Tag:noindex
X-PUBLISHED-TTL:PT1H
BEGIN:VTIMEZONE
TZID:Europe/Oslo
BEGIN:DAYLIGHT
TZOFFSETFROM:+0100
TZOFFSETTO:+0200
TZNAME:CEST
DTSTART:20230326T010000
END:DAYLIGHT
BEGIN:STANDARD
TZOFFSETFROM:+0200
TZOFFSETTO:+0100
TZNAME:CET
DTSTART:20231029T010000
END:STANDARD
END:VTIMEZONE
BEGIN:VEVENT
DTSTART;TZID=Europe/Oslo:20230127T210000
DTEND;TZID=Europe/Oslo:20230128T010000
DTSTAMP:20260424T143835
CREATED:20230118T125716Z
LAST-MODIFIED:20230118T125716Z
UID:3013-1674853200-1674867600@tredet.no
SUMMARY:MINNESOTA: Trond Kallevåg\, Mats Eilertsen & Gard Nilsen
DESCRIPTION:Filmatisk musikk med kraftfull melodisk teft\, inspirert av gamle norsk-amerikanske Murder og Cowboyballader.\nTrond presenterer her ny musikk med tittelen «Minnesota» og har fått med seg to av landets flittigste musikere.\nMed sine to Hubro-utgivelser\, «Bedehus & Hawaii» (2019) og «Fengselsfugl» (2021)\, har haugesunderen\, gitaristen og komponisten Trond Kallevåg etablert seg som en særs original og viktig musikalsk stemme i sin generasjon. Anmeldere i inn og utland har hyllet musikken hans for sitt ærlige og lyriske instrumentale musikk og flere har trukket paraleller til musikken til Ry Cooder. På originalt vis blander han alt fra vestnorske fengsels- og skillingsviser med melodisk nøysomhet og amerikansk folk. På platene medvirket blant annet Geir Sundstøl som perfekt matchet Trond sitt gitarspill samt affeksjon for atmosfærisk filmmusikk\, forsiktig bedehussakralitet og polynesisk exotica.\n\nHans nye prosjekt «Minnesota» referer til delstaten i USA hvor svært mange norske utvandrere bosatte seg på 1800-tallet. USA hadde stor tiltrekningskraft på de som ikke passet inn og for Trond representerer navnet både det lovløse og drømmen om trygghet og frihet. Musikken spinner videre på Trond sine to forrige kritikerroste plater «Bedehus & Hawaii» og «Fengselsfugl» som var sterkt inspirert av gamle skillingsviser som var populære i miljøer som stod ved siden av det etablerte. Denne gang har Trond funnet inspirasjon i delstaten Minnesota og blant annet gamle amerikanske Murder og Cowboyballads som var populære på 1800-tallet.\n\nKallevåg har samlet en trio som virkelig borger for kvalitet! Gard Nilsen og Mats Eilertsen. Trommeslageren Gard Nilsen har vunnet flere Spellemannpriser og spilt med storheter som Bill Frisell og Pat Metheny\, og har også vært Susanne Sundførs foretrukne trommeslager i en årrekke. Mats Eilertsen på bass har også vunnet flere Spellemannpriser og har medvirket på flere titalls plateutgivelser med musikere som The Source\, Arve Henriksen\, Solveig Slettahjell og Nils Økland.\n\nBillettar kan kjøpes på tikkio: tikkio.com/tickets/34753-minnesota-trond-kallevag-mats-eilertsen-gard-nilsen
URL:https://tredet.no/event/minnesota-trond-kallevag-mats-eilertsen-gard-nilsen/
LOCATION:Tredet\, Halkjelsgate 8\, Volda\, Møre og Romsdal\, 6100\, Norge
ORGANIZER;CN="Tredet":MAILTO:post@tredet.no
END:VEVENT
BEGIN:VEVENT
DTSTART;TZID=Europe/Oslo:20230128T160000
DTEND;TZID=Europe/Oslo:20230128T180000
DTSTAMP:20260424T143835
CREATED:20230126T132919Z
LAST-MODIFIED:20230126T132937Z
UID:3037-1674921600-1674928800@tredet.no
SUMMARY:Støttekonsert på Tredet
DESCRIPTION:Konserten er støtte til bevaring av Mork rehabiliteringssenter og sommaropen fødeavdeling på Volda sjukehus. \nDette kan du forvente: \nØyvind Lied: tangentar og song\nStig Ulv ( Stig Ulvestad): solo instrumentalist\, gitar\nØyvind Robak: solo instrumentalist\, fele og bandoneon\nKjell Arne Dimmen: gitar og song\nKyrre Grimstad og Kjell Rune Klubbens: gitar og song\nÅge Nybø\, Linda Isabella og Geir Boska: gitar og song\nAugust Øyehaug Sellevoll: rap \nInngangen er gratis!
URL:https://tredet.no/event/stottekonsert-pa-tredet/
LOCATION:Tredet\, Halkjelsgate 8\, Volda\, Møre og Romsdal\, 6100\, Norge
ORGANIZER;CN="Tredet":MAILTO:post@tredet.no
END:VEVENT
END:VCALENDAR