BEGIN:VCALENDAR
VERSION:2.0
PRODID:-//Tredet - ECPv6.9.0//NONSGML v1.0//EN
CALSCALE:GREGORIAN
METHOD:PUBLISH
X-ORIGINAL-URL:https://tredet.no
X-WR-CALDESC:Arrangementer for Tredet
REFRESH-INTERVAL;VALUE=DURATION:PT1H
X-Robots-Tag:noindex
X-PUBLISHED-TTL:PT1H
BEGIN:VTIMEZONE
TZID:Europe/Oslo
BEGIN:DAYLIGHT
TZOFFSETFROM:+0100
TZOFFSETTO:+0200
TZNAME:CEST
DTSTART:20220327T010000
END:DAYLIGHT
BEGIN:STANDARD
TZOFFSETFROM:+0200
TZOFFSETTO:+0100
TZNAME:CET
DTSTART:20221030T010000
END:STANDARD
END:VTIMEZONE
BEGIN:VEVENT
DTSTART;TZID=Europe/Oslo:20221226T180000
DTEND;TZID=Europe/Oslo:20221227T023000
DTSTAMP:20260424T145918
CREATED:20221021T083111Z
LAST-MODIFIED:20221021T083308Z
UID:2718-1672077600-1672108200@tredet.no
SUMMARY:2. JULEDAGS-FEST
DESCRIPTION:Den 26. desember\, 2. juledag\, held vi ope frå kl. 18.00 til kl. 02.30. \nMange heime på julefeirie og andre vil på Tredet og møte kjentfolk denne kvelden. \nBillettar vert lagt ut på Tikkio\, snart. Billettar kan også kjøpast i døra. \nBillettpris kr. 200\,-. \nAldersgrense 20 år. \nVelkomne skal de vere! 🙂
URL:https://tredet.no/event/2-juledags-fest/
LOCATION:Tredet\, Halkjelsgate 8\, Volda\, Møre og Romsdal\, 6100\, Norge
ORGANIZER;CN="Tredet":MAILTO:post@tredet.no
END:VEVENT
BEGIN:VEVENT
DTSTART;TZID=Europe/Oslo:20221227T180000
DTEND;TZID=Europe/Oslo:20221228T020000
DTSTAMP:20260424T145918
CREATED:20221028T085306Z
LAST-MODIFIED:20221226T170946Z
UID:2728-1672164000-1672192800@tredet.no
SUMMARY:ROMJULFEST MED FUNKUPS
DESCRIPTION:ARRANGEMENTET ER UTSELT! DET ER IKKJE MULEG Å KJØPE BILLETTAR I DØRA!\n\n\n\nUnder korona-krisa for nokre år sidan var det nokre lokale musikantar som sat heime i kvar si krå og synest det vart for lite gjort. Dei ville so gjerne ut og bruke instrumenta sine til noke fornuftig – ikkje berre støvsamling heime. Men då måtte dei ha eit turvande lokale – som stetta alle krav til omgang med folk; Det måtte vere stort nok til at ein kunne halde lovlig avstand. Dette fann dei i eit kjellarlokale i Volda sentrum.\nNotane vart kopiert og det vart kalla inn til øving. Øvingane vart halde ein gong i veka\, og desse to timane vart etter kvart eit av dei få høva dei hadde til omgang med andre rektige folk\, og slik sett ein viktig oase i ein elles grå og traurig kvardag.\nNår so koronaen hadde sagt sitt\, var kvaliteten på spelinga vorte so pass høg at dei tykte at dette kunne delast med anna folk – også kalla publikum. Men då måtte ein ha eit namn; Mange forslag vart lansert\, og det minst kleine vart valt: the FunkUps. (Det kan kanskje seie litt om kor kleine dei andre forslaga var…)\nNår namnet var bestemt fann dei ut at ein kafe nede i sentrum skulle hatt eit tilbod om levande musikk – om ikkje anna so kunne dei bidra med torsdagsunderhaldning i ny og ne. Tredet vart plassen\, og torsdags”øvingane” med the FunkUps har vore godt omtykte – både av bandet og publikum.\nNo har bandet spreidd sin jazz\, blues og funk med jamne mellomrom\, og er no klare for å trø til med ein skikkelig spelejobb; Tredje juledag stiller dei med nystrokne skjorter og nypussa botfora. Dei har til og med spissa repertoaret til å passe både dei som likar å høyre på musikk\, og dei som likar å danse…\nthe FunkUps består av:\nØyvind Lied: Tangentar / vokal\nStein Lied: Trommer / vokal\nSvein Olav Kruse; Gitar\nAndre Folkestad; Trombone\nSvein Hunnes; Bass\nUlf Kristiansen; Sax\nIvar Kvangardsnes; Trompet\n\n\nFunkUps byrjar å spele kl. 21.00!\n\n\nAldersgrense 20 år.\n\nBillettar er lagt ut for sal på tikkio.no. \nEventuelle overskytande billettar vert seldt i døra! \nVelkomne skal de vere! 🙂 \n 
URL:https://tredet.no/event/romjulfest-med-funkups/
LOCATION:Tredet\, Halkjelsgate 8\, Volda\, Møre og Romsdal\, 6100\, Norge
ATTACH;FMTTYPE=image/jpeg:https://tredet.no/wp-content/uploads/2022/10/3675C093-0002-406C-9D8D-E6FE439B71B1.jpeg
ORGANIZER;CN="Tredet":MAILTO:post@tredet.no
END:VEVENT
END:VCALENDAR