BEGIN:VCALENDAR
VERSION:2.0
PRODID:-//Tredet - ECPv6.9.0//NONSGML v1.0//EN
CALSCALE:GREGORIAN
METHOD:PUBLISH
X-ORIGINAL-URL:https://tredet.no
X-WR-CALDESC:Arrangementer for Tredet
REFRESH-INTERVAL;VALUE=DURATION:PT1H
X-Robots-Tag:noindex
X-PUBLISHED-TTL:PT1H
BEGIN:VTIMEZONE
TZID:Europe/Oslo
BEGIN:DAYLIGHT
TZOFFSETFROM:+0100
TZOFFSETTO:+0200
TZNAME:CEST
DTSTART:20220327T010000
END:DAYLIGHT
BEGIN:STANDARD
TZOFFSETFROM:+0200
TZOFFSETTO:+0100
TZNAME:CET
DTSTART:20221030T010000
END:STANDARD
END:VTIMEZONE
BEGIN:VEVENT
DTSTART;TZID=Europe/Oslo:20221221T203000
DTEND;TZID=Europe/Oslo:20221222T000000
DTSTAMP:20260424T161904
CREATED:20221206T184405Z
LAST-MODIFIED:20221206T185708Z
UID:2849-1671654600-1671667200@tredet.no
SUMMARY:JULEJAM MED SYNNE BERGEM LIA OG JAZZKLUBBEN
DESCRIPTION:Arrangementnavn: JULEJAM // Jazzklubben // Tredet \nDato og klokkeslett: Onsdag 21.desember kl.2030 – 24.00. \nMedarrangør: Synne Bergem Lia  og Jazzklubben.no \nDet nærmar seg jul og mange musikarar frå Volda/Ørsta området kjem snart heim. I år skal vi prøve å få samlast for å spele saman. Det blir då ein jule-jam på Tredet i samarbeid med Jazzklubben 🎄 \n Det blir annonsert ein opningsband etterkvart ✨ \nSynne Bergem Lia skal vere jamvert. \nTa med instrumentet ditt og kom; uansett om du er student\, amatørmusiker eller profesjonell; uansett om du spiller jazz eller andre sjangere! 🎷🎻 \nVelkommen til Jule-jam!⛄
URL:https://tredet.no/event/julejam-med-synne-bergem-lia-og-jazzklubben/
LOCATION:Tredet\, Halkjelsgate 8\, Volda\, Møre og Romsdal\, 6100\, Norge
ATTACH;FMTTYPE=image/png:https://tredet.no/wp-content/uploads/2022/12/julejam.png
ORGANIZER;CN="Tredet":MAILTO:post@tredet.no
END:VEVENT
END:VCALENDAR