BEGIN:VCALENDAR
VERSION:2.0
PRODID:-//Tredet - ECPv6.9.0//NONSGML v1.0//EN
CALSCALE:GREGORIAN
METHOD:PUBLISH
X-ORIGINAL-URL:https://tredet.no
X-WR-CALDESC:Arrangementer for Tredet
REFRESH-INTERVAL;VALUE=DURATION:PT1H
X-Robots-Tag:noindex
X-PUBLISHED-TTL:PT1H
BEGIN:VTIMEZONE
TZID:Europe/Oslo
BEGIN:DAYLIGHT
TZOFFSETFROM:+0100
TZOFFSETTO:+0200
TZNAME:CEST
DTSTART:20220327T010000
END:DAYLIGHT
BEGIN:STANDARD
TZOFFSETFROM:+0200
TZOFFSETTO:+0100
TZNAME:CET
DTSTART:20221030T010000
END:STANDARD
END:VTIMEZONE
BEGIN:VEVENT
DTSTART;TZID=Europe/Oslo:20221203T140000
DTEND;TZID=Europe/Oslo:20221203T160000
DTSTAMP:20260424T161818
CREATED:20221118T094303Z
LAST-MODIFIED:20221128T115956Z
UID:2827-1670076000-1670083200@tredet.no
SUMMARY:FUNKUPS PÅ JAZZKAFEEN KL. 14.00 - 16.00
DESCRIPTION:Årets siste jazzcafe blir Tredet sitt «husband» the FunkUps. Her får du servert jazz\, soul og funk frå 60- og 70-talet\, og kanskje ei og anna vokal-sviske frå brødrene Lied? \nVelkomne skal de vere! 🙂
URL:https://tredet.no/event/funkups-pa-jazzkafeen-kl-14-00-16-00/
LOCATION:Tredet\, Halkjelsgate 8\, Volda\, Møre og Romsdal\, 6100\, Norge
ATTACH;FMTTYPE=image/jpeg:https://tredet.no/wp-content/uploads/2022/10/3675C093-0002-406C-9D8D-E6FE439B71B1.jpeg
ORGANIZER;CN="Tredet":MAILTO:post@tredet.no
END:VEVENT
END:VCALENDAR