BEGIN:VCALENDAR
VERSION:2.0
PRODID:-//Tredet - ECPv6.9.0//NONSGML v1.0//EN
CALSCALE:GREGORIAN
METHOD:PUBLISH
X-ORIGINAL-URL:https://tredet.no
X-WR-CALDESC:Arrangementer for Tredet
REFRESH-INTERVAL;VALUE=DURATION:PT1H
X-Robots-Tag:noindex
X-PUBLISHED-TTL:PT1H
BEGIN:VTIMEZONE
TZID:Europe/Oslo
BEGIN:DAYLIGHT
TZOFFSETFROM:+0100
TZOFFSETTO:+0200
TZNAME:CEST
DTSTART:20220327T010000
END:DAYLIGHT
BEGIN:STANDARD
TZOFFSETFROM:+0200
TZOFFSETTO:+0100
TZNAME:CET
DTSTART:20221030T010000
END:STANDARD
END:VTIMEZONE
BEGIN:VEVENT
DTSTART;TZID=Europe/Oslo:20221118T200000
DTEND;TZID=Europe/Oslo:20221118T223000
DTSTAMP:20260424T175850
CREATED:20220831T194651Z
LAST-MODIFIED:20221111T103532Z
UID:2597-1668801600-1668810600@tredet.no
SUMMARY:JAZZKONSERT MED WAKO
DESCRIPTION:Med fire studioplater og eit hundretal liveframferder i ryggen\, speler Wako med ein autoritet og personlegdom som plasserer dei i fortroppen av nordisk jazz. Wako er ein av dei mest dynamiske og innovative gruppene på dagens jazzscene\, og har bygd ein solid fanskare og hausta heider frå kritikarar nær og fjern. Kort fortalt er Wako ein av dei mest imponerande unge livegruppene i dag. \nIndividuelt er musikarane også å sjå i prosjekt som spellemannsvinner Hegge\, spellemannsnominerte Megalodon Collective\, Espen Berg trio\, Kjetil Mulelid Trio og Trondheim Jazzorkester.Jazzkonsert med Wako. \nPris kr. 200\,- (medlemar av Jazzklubben)\, kr. 300\,- (ikkje medlem). \nBillettar vert selde på tikkio.no. Overskytande billettar vert selde i døra. \nAldersgrense 20 år. \nVelkomne skal de vere! 🙂
URL:https://tredet.no/event/jazzkonsert-med-wako/
LOCATION:Tredet\, Halkjelsgate 8\, Volda\, Møre og Romsdal\, 6100\, Norge
ORGANIZER;CN="Tredet":MAILTO:post@tredet.no
END:VEVENT
END:VCALENDAR