BEGIN:VCALENDAR
VERSION:2.0
PRODID:-//Tredet - ECPv6.9.0//NONSGML v1.0//EN
CALSCALE:GREGORIAN
METHOD:PUBLISH
X-ORIGINAL-URL:https://tredet.no
X-WR-CALDESC:Arrangementer for Tredet
REFRESH-INTERVAL;VALUE=DURATION:PT1H
X-Robots-Tag:noindex
X-PUBLISHED-TTL:PT1H
BEGIN:VTIMEZONE
TZID:Europe/Oslo
BEGIN:DAYLIGHT
TZOFFSETFROM:+0100
TZOFFSETTO:+0200
TZNAME:CEST
DTSTART:20220327T010000
END:DAYLIGHT
BEGIN:STANDARD
TZOFFSETFROM:+0200
TZOFFSETTO:+0100
TZNAME:CET
DTSTART:20221030T010000
END:STANDARD
END:VTIMEZONE
BEGIN:VEVENT
DTSTART;TZID=Europe/Oslo:20221105T130000
DTEND;TZID=Europe/Oslo:20221105T160000
DTSTAMP:20260424T175849
CREATED:20221030T193523Z
LAST-MODIFIED:20221030T195102Z
UID:2748-1667653200-1667664000@tredet.no
SUMMARY:VOLDAMEISTERSKAP I TVUNGEN YATZY
DESCRIPTION:Yatzy er ein klassikar som passer for born i alle aldrar. \nOpe for alle. \nPåmelding på kr. 50\,-. Vipps til nr. 73 05 22. Merk betalinga kva påmeldinga gjeld! Gratis for alle under 12 år. \nVelkomne skal de vere! 🙂 \n 
URL:https://tredet.no/event/voldameisterskap-i-tvungen-yatzy/
LOCATION:Tredet\, Halkjelsgate 8\, Volda\, Møre og Romsdal\, 6100\, Norge
ORGANIZER;CN="Tredet":MAILTO:post@tredet.no
END:VEVENT
BEGIN:VEVENT
DTSTART;TZID=Europe/Oslo:20221105T190000
DTEND;TZID=Europe/Oslo:20221105T220000
DTSTAMP:20260424T175849
CREATED:20221030T194140Z
LAST-MODIFIED:20221101T214527Z
UID:2750-1667674800-1667685600@tredet.no
SUMMARY:VOLDAMEISTERSKAP I ALLMENNKVISS FRÅ KL. 19.00 - 22.00
DESCRIPTION:Kvissen inneheld mange av dei same elementa som under Tysdagskvissane. Men her har ein altså muligheit til å verte Voldameister for 2022! \nPåmelding kr. 50\, pr. person. Vipps til nr. 73 05 22. Merk betalinga kva påmeldinga gjeld! \nAllmennkvissen varer frå kl. 19.00 – 22.00. Deretter er det ope hus og gratis inngong! \nVelkomne skal de vere! 🙂
URL:https://tredet.no/event/voldameisterskap-i-allmennkviss/
LOCATION:Tredet\, Halkjelsgate 8\, Volda\, Møre og Romsdal\, 6100\, Norge
ORGANIZER;CN="Tredet":MAILTO:post@tredet.no
END:VEVENT
END:VCALENDAR