BEGIN:VCALENDAR
VERSION:2.0
PRODID:-//Tredet - ECPv6.9.0//NONSGML v1.0//EN
CALSCALE:GREGORIAN
METHOD:PUBLISH
X-WR-CALNAME:Tredet
X-ORIGINAL-URL:https://tredet.no
X-WR-CALDESC:Arrangementer for Tredet
REFRESH-INTERVAL;VALUE=DURATION:PT1H
X-Robots-Tag:noindex
X-PUBLISHED-TTL:PT1H
BEGIN:VTIMEZONE
TZID:Europe/Oslo
BEGIN:DAYLIGHT
TZOFFSETFROM:+0100
TZOFFSETTO:+0200
TZNAME:CEST
DTSTART:20220327T010000
END:DAYLIGHT
BEGIN:STANDARD
TZOFFSETFROM:+0200
TZOFFSETTO:+0100
TZNAME:CET
DTSTART:20221030T010000
END:STANDARD
END:VTIMEZONE
BEGIN:VEVENT
DTSTART;TZID=Europe/Oslo:20221015T140000
DTEND;TZID=Europe/Oslo:20221015T160000
DTSTAMP:20260424T192818
CREATED:20220815T232540Z
LAST-MODIFIED:20221004T104247Z
UID:2473-1665842400-1665849600@tredet.no
SUMMARY:JAZZKAFE MED EXTRAORDINARY COLLECTION OF GENTLEMAN
DESCRIPTION:ECG er eit nordisk progressivt jazzband med base på Sandane\, Gloppen. Musikken vert av\nmange skildra som progressiv jazz\, der stikkord som gjentar seg er nordisk melankoli\,\nromantiske harmoniar\, frekke akkordar\, skeive taktartar\, melodiske linjer\, improvisasjon\,\nblytungt og light as a feather. \nPris kr. 50\,-(medlemar i Jazzklubben)\, kr. 100\,- (ikkje medlem) \nBillettar vert selde i døra. \nVelkomne skal de vere! 🙂
URL:https://tredet.no/event/jazzkafe-6/
LOCATION:Tredet\, Halkjelsgate 8\, Volda\, Møre og Romsdal\, 6100\, Norge
ATTACH;FMTTYPE=image/jpeg:https://tredet.no/wp-content/uploads/2022/08/Extraordinary.jpg
ORGANIZER;CN="Tredet":MAILTO:post@tredet.no
END:VEVENT
END:VCALENDAR