BEGIN:VCALENDAR
VERSION:2.0
PRODID:-//Tredet - ECPv6.9.0//NONSGML v1.0//EN
CALSCALE:GREGORIAN
METHOD:PUBLISH
X-WR-CALNAME:Tredet
X-ORIGINAL-URL:https://tredet.no
X-WR-CALDESC:Arrangementer for Tredet
REFRESH-INTERVAL;VALUE=DURATION:PT1H
X-Robots-Tag:noindex
X-PUBLISHED-TTL:PT1H
BEGIN:VTIMEZONE
TZID:Europe/Oslo
BEGIN:DAYLIGHT
TZOFFSETFROM:+0100
TZOFFSETTO:+0200
TZNAME:CEST
DTSTART:20220327T010000
END:DAYLIGHT
BEGIN:STANDARD
TZOFFSETFROM:+0200
TZOFFSETTO:+0100
TZNAME:CET
DTSTART:20221030T010000
END:STANDARD
END:VTIMEZONE
BEGIN:VEVENT
DTSTART;TZID=Europe/Oslo:20220830T180000
DTEND;TZID=Europe/Oslo:20220830T203000
DTSTAMP:20260424T204653
CREATED:20220222T120624Z
LAST-MODIFIED:20220815T200409Z
UID:2058-1661882400-1661891400@tredet.no
SUMMARY:Strikkekafé
DESCRIPTION:Vi er klare med oppstart av Strikkekafé igjen på Tredet \nEr du glad i strikking\, hekling eller anna handarbeid? Merete og Astri arrangerer strikkekafé hjå oss\, enkelte tysdagar fram til sommaren\, som eit fast innslag. Ein fin arena for dei som ynskjer å dele skapargleda med andre! Dei inviterer både deg som har vore med på strikkekafé tidlegare – og nye – til sosialt fellesskap og strikk/handarbeid. Dersom du berre har lyst til å kome å vere i lag med\, så er du sjølvsagt også hjarteleg velkommen. \n Skravling\n Strikking/handarbeid\n Deling av tips og råd til dei som treng det\n God mat og drikke \nVel møtt!
URL:https://tredet.no/event/strikkekafe/
LOCATION:Tredet\, Halkjelsgate 8\, Volda\, Møre og Romsdal\, 6100\, Norge
ATTACH;FMTTYPE=image/jpeg:https://tredet.no/wp-content/uploads/2022/01/Strikkekafe-e1641371201101.jpeg
ORGANIZER;CN="Tredet":MAILTO:post@tredet.no
END:VEVENT
END:VCALENDAR